BEGIN:VCALENDAR
VERSION:2.0
PRODID:-//St. Paul Baptist Church - Fairfield - ECPv6.15.20//NONSGML v1.0//EN
CALSCALE:GREGORIAN
METHOD:PUBLISH
X-WR-CALNAME:St. Paul Baptist Church - Fairfield
X-ORIGINAL-URL:https://stpaulfairfield.org
X-WR-CALDESC:Events for St. Paul Baptist Church - Fairfield
REFRESH-INTERVAL;VALUE=DURATION:PT1H
X-Robots-Tag:noindex
X-PUBLISHED-TTL:PT1H
BEGIN:VTIMEZONE
TZID:America/Los_Angeles
BEGIN:DAYLIGHT
TZOFFSETFROM:-0800
TZOFFSETTO:-0700
TZNAME:PDT
DTSTART:20260308T100000
END:DAYLIGHT
BEGIN:STANDARD
TZOFFSETFROM:-0700
TZOFFSETTO:-0800
TZNAME:PST
DTSTART:20261101T090000
END:STANDARD
BEGIN:DAYLIGHT
TZOFFSETFROM:-0800
TZOFFSETTO:-0700
TZNAME:PDT
DTSTART:20270314T100000
END:DAYLIGHT
BEGIN:STANDARD
TZOFFSETFROM:-0700
TZOFFSETTO:-0800
TZNAME:PST
DTSTART:20271107T090000
END:STANDARD
BEGIN:DAYLIGHT
TZOFFSETFROM:-0800
TZOFFSETTO:-0700
TZNAME:PDT
DTSTART:20280312T100000
END:DAYLIGHT
BEGIN:STANDARD
TZOFFSETFROM:-0700
TZOFFSETTO:-0800
TZNAME:PST
DTSTART:20281105T090000
END:STANDARD
BEGIN:DAYLIGHT
TZOFFSETFROM:-0800
TZOFFSETTO:-0700
TZNAME:PDT
DTSTART:20290311T100000
END:DAYLIGHT
BEGIN:STANDARD
TZOFFSETFROM:-0700
TZOFFSETTO:-0800
TZNAME:PST
DTSTART:20291104T090000
END:STANDARD
END:VTIMEZONE
BEGIN:VEVENT
DTSTART;TZID=America/Los_Angeles:20270912T120000
DTEND;TZID=America/Los_Angeles:20270912T130000
DTSTAMP:20260421T140238
CREATED:20190901T204840Z
LAST-MODIFIED:20231127T192010Z
UID:10000250-1820750400-1820754000@stpaulfairfield.org
SUMMARY:Sunday Worship Service
DESCRIPTION:
URL:https://stpaulfairfield.org/event/sunday-worship-service-18/2027-09-12/
LOCATION:Grace Episcopal Church\, 1405 Kentucky Street\, Fairfield\, CA\, 94533\, United States
CATEGORIES:Worship Service
END:VEVENT
BEGIN:VEVENT
DTSTART;TZID=America/Los_Angeles:20270919T120000
DTEND;TZID=America/Los_Angeles:20270919T130000
DTSTAMP:20260421T140238
CREATED:20190901T204840Z
LAST-MODIFIED:20231127T192010Z
UID:10000251-1821355200-1821358800@stpaulfairfield.org
SUMMARY:Sunday Worship Service
DESCRIPTION:
URL:https://stpaulfairfield.org/event/sunday-worship-service-18/2027-09-19/
LOCATION:Grace Episcopal Church\, 1405 Kentucky Street\, Fairfield\, CA\, 94533\, United States
CATEGORIES:Worship Service
END:VEVENT
BEGIN:VEVENT
DTSTART;TZID=America/Los_Angeles:20270926T120000
DTEND;TZID=America/Los_Angeles:20270926T130000
DTSTAMP:20260421T140238
CREATED:20190901T204840Z
LAST-MODIFIED:20231127T192010Z
UID:10000252-1821960000-1821963600@stpaulfairfield.org
SUMMARY:Sunday Worship Service
DESCRIPTION:
URL:https://stpaulfairfield.org/event/sunday-worship-service-18/2027-09-26/
LOCATION:Grace Episcopal Church\, 1405 Kentucky Street\, Fairfield\, CA\, 94533\, United States
CATEGORIES:Worship Service
END:VEVENT
BEGIN:VEVENT
DTSTART;TZID=America/Los_Angeles:20271003T120000
DTEND;TZID=America/Los_Angeles:20271003T130000
DTSTAMP:20260421T140238
CREATED:20190901T204840Z
LAST-MODIFIED:20231127T192010Z
UID:10000253-1822564800-1822568400@stpaulfairfield.org
SUMMARY:Sunday Worship Service
DESCRIPTION:
URL:https://stpaulfairfield.org/event/sunday-worship-service-18/2027-10-03/
LOCATION:Grace Episcopal Church\, 1405 Kentucky Street\, Fairfield\, CA\, 94533\, United States
CATEGORIES:Worship Service
END:VEVENT
BEGIN:VEVENT
DTSTART;TZID=America/Los_Angeles:20271010T120000
DTEND;TZID=America/Los_Angeles:20271010T130000
DTSTAMP:20260421T140238
CREATED:20190901T204840Z
LAST-MODIFIED:20231127T192010Z
UID:10000254-1823169600-1823173200@stpaulfairfield.org
SUMMARY:Sunday Worship Service
DESCRIPTION:
URL:https://stpaulfairfield.org/event/sunday-worship-service-18/2027-10-10/
LOCATION:Grace Episcopal Church\, 1405 Kentucky Street\, Fairfield\, CA\, 94533\, United States
CATEGORIES:Worship Service
END:VEVENT
BEGIN:VEVENT
DTSTART;TZID=America/Los_Angeles:20271017T120000
DTEND;TZID=America/Los_Angeles:20271017T130000
DTSTAMP:20260421T140238
CREATED:20190901T204840Z
LAST-MODIFIED:20231127T192010Z
UID:10000255-1823774400-1823778000@stpaulfairfield.org
SUMMARY:Sunday Worship Service
DESCRIPTION:
URL:https://stpaulfairfield.org/event/sunday-worship-service-18/2027-10-17/
LOCATION:Grace Episcopal Church\, 1405 Kentucky Street\, Fairfield\, CA\, 94533\, United States
CATEGORIES:Worship Service
END:VEVENT
BEGIN:VEVENT
DTSTART;TZID=America/Los_Angeles:20271024T120000
DTEND;TZID=America/Los_Angeles:20271024T130000
DTSTAMP:20260421T140238
CREATED:20190901T204840Z
LAST-MODIFIED:20231127T192010Z
UID:10000256-1824379200-1824382800@stpaulfairfield.org
SUMMARY:Sunday Worship Service
DESCRIPTION:
URL:https://stpaulfairfield.org/event/sunday-worship-service-18/2027-10-24/
LOCATION:Grace Episcopal Church\, 1405 Kentucky Street\, Fairfield\, CA\, 94533\, United States
CATEGORIES:Worship Service
END:VEVENT
BEGIN:VEVENT
DTSTART;TZID=America/Los_Angeles:20271031T120000
DTEND;TZID=America/Los_Angeles:20271031T130000
DTSTAMP:20260421T140238
CREATED:20190901T204840Z
LAST-MODIFIED:20231127T192010Z
UID:10000257-1824984000-1824987600@stpaulfairfield.org
SUMMARY:Sunday Worship Service
DESCRIPTION:
URL:https://stpaulfairfield.org/event/sunday-worship-service-18/2027-10-31/
LOCATION:Grace Episcopal Church\, 1405 Kentucky Street\, Fairfield\, CA\, 94533\, United States
CATEGORIES:Worship Service
END:VEVENT
BEGIN:VEVENT
DTSTART;TZID=America/Los_Angeles:20271107T120000
DTEND;TZID=America/Los_Angeles:20271107T130000
DTSTAMP:20260421T140238
CREATED:20190901T204840Z
LAST-MODIFIED:20231127T192010Z
UID:10000258-1825588800-1825592400@stpaulfairfield.org
SUMMARY:Sunday Worship Service
DESCRIPTION:
URL:https://stpaulfairfield.org/event/sunday-worship-service-18/2027-11-07/
LOCATION:Grace Episcopal Church\, 1405 Kentucky Street\, Fairfield\, CA\, 94533\, United States
CATEGORIES:Worship Service
END:VEVENT
BEGIN:VEVENT
DTSTART;TZID=America/Los_Angeles:20271114T120000
DTEND;TZID=America/Los_Angeles:20271114T130000
DTSTAMP:20260421T140238
CREATED:20190901T204840Z
LAST-MODIFIED:20231127T192010Z
UID:10000259-1826193600-1826197200@stpaulfairfield.org
SUMMARY:Sunday Worship Service
DESCRIPTION:
URL:https://stpaulfairfield.org/event/sunday-worship-service-18/2027-11-14/
LOCATION:Grace Episcopal Church\, 1405 Kentucky Street\, Fairfield\, CA\, 94533\, United States
CATEGORIES:Worship Service
END:VEVENT
BEGIN:VEVENT
DTSTART;TZID=America/Los_Angeles:20271121T120000
DTEND;TZID=America/Los_Angeles:20271121T130000
DTSTAMP:20260421T140238
CREATED:20190901T204840Z
LAST-MODIFIED:20231127T192010Z
UID:10000260-1826798400-1826802000@stpaulfairfield.org
SUMMARY:Sunday Worship Service
DESCRIPTION:
URL:https://stpaulfairfield.org/event/sunday-worship-service-18/2027-11-21/
LOCATION:Grace Episcopal Church\, 1405 Kentucky Street\, Fairfield\, CA\, 94533\, United States
CATEGORIES:Worship Service
END:VEVENT
BEGIN:VEVENT
DTSTART;TZID=America/Los_Angeles:20271128T120000
DTEND;TZID=America/Los_Angeles:20271128T130000
DTSTAMP:20260421T140238
CREATED:20190901T204840Z
LAST-MODIFIED:20231127T192010Z
UID:10000261-1827403200-1827406800@stpaulfairfield.org
SUMMARY:Sunday Worship Service
DESCRIPTION:
URL:https://stpaulfairfield.org/event/sunday-worship-service-18/2027-11-28/
LOCATION:Grace Episcopal Church\, 1405 Kentucky Street\, Fairfield\, CA\, 94533\, United States
CATEGORIES:Worship Service
END:VEVENT
BEGIN:VEVENT
DTSTART;TZID=America/Los_Angeles:20271205T120000
DTEND;TZID=America/Los_Angeles:20271205T130000
DTSTAMP:20260421T140238
CREATED:20190901T204840Z
LAST-MODIFIED:20231127T192010Z
UID:10000262-1828008000-1828011600@stpaulfairfield.org
SUMMARY:Sunday Worship Service
DESCRIPTION:
URL:https://stpaulfairfield.org/event/sunday-worship-service-18/2027-12-05/
LOCATION:Grace Episcopal Church\, 1405 Kentucky Street\, Fairfield\, CA\, 94533\, United States
CATEGORIES:Worship Service
END:VEVENT
BEGIN:VEVENT
DTSTART;TZID=America/Los_Angeles:20271212T120000
DTEND;TZID=America/Los_Angeles:20271212T130000
DTSTAMP:20260421T140238
CREATED:20190901T204840Z
LAST-MODIFIED:20231127T192010Z
UID:10000263-1828612800-1828616400@stpaulfairfield.org
SUMMARY:Sunday Worship Service
DESCRIPTION:
URL:https://stpaulfairfield.org/event/sunday-worship-service-18/2027-12-12/
LOCATION:Grace Episcopal Church\, 1405 Kentucky Street\, Fairfield\, CA\, 94533\, United States
CATEGORIES:Worship Service
END:VEVENT
BEGIN:VEVENT
DTSTART;TZID=America/Los_Angeles:20271219T120000
DTEND;TZID=America/Los_Angeles:20271219T130000
DTSTAMP:20260421T140238
CREATED:20190901T204840Z
LAST-MODIFIED:20231127T192010Z
UID:10000264-1829217600-1829221200@stpaulfairfield.org
SUMMARY:Sunday Worship Service
DESCRIPTION:
URL:https://stpaulfairfield.org/event/sunday-worship-service-18/2027-12-19/
LOCATION:Grace Episcopal Church\, 1405 Kentucky Street\, Fairfield\, CA\, 94533\, United States
CATEGORIES:Worship Service
END:VEVENT
BEGIN:VEVENT
DTSTART;TZID=America/Los_Angeles:20271226T120000
DTEND;TZID=America/Los_Angeles:20271226T130000
DTSTAMP:20260421T140238
CREATED:20190901T204840Z
LAST-MODIFIED:20231127T192010Z
UID:10000265-1829822400-1829826000@stpaulfairfield.org
SUMMARY:Sunday Worship Service
DESCRIPTION:
URL:https://stpaulfairfield.org/event/sunday-worship-service-18/2027-12-26/
LOCATION:Grace Episcopal Church\, 1405 Kentucky Street\, Fairfield\, CA\, 94533\, United States
CATEGORIES:Worship Service
END:VEVENT
BEGIN:VEVENT
DTSTART;TZID=America/Los_Angeles:20280102T120000
DTEND;TZID=America/Los_Angeles:20280102T130000
DTSTAMP:20260421T140238
CREATED:20190901T204840Z
LAST-MODIFIED:20231127T192010Z
UID:10000266-1830427200-1830430800@stpaulfairfield.org
SUMMARY:Sunday Worship Service
DESCRIPTION:
URL:https://stpaulfairfield.org/event/sunday-worship-service-18/2028-01-02/
LOCATION:Grace Episcopal Church\, 1405 Kentucky Street\, Fairfield\, CA\, 94533\, United States
CATEGORIES:Worship Service
END:VEVENT
BEGIN:VEVENT
DTSTART;TZID=America/Los_Angeles:20280109T120000
DTEND;TZID=America/Los_Angeles:20280109T130000
DTSTAMP:20260421T140238
CREATED:20190901T204840Z
LAST-MODIFIED:20231127T192010Z
UID:10000267-1831032000-1831035600@stpaulfairfield.org
SUMMARY:Sunday Worship Service
DESCRIPTION:
URL:https://stpaulfairfield.org/event/sunday-worship-service-18/2028-01-09/
LOCATION:Grace Episcopal Church\, 1405 Kentucky Street\, Fairfield\, CA\, 94533\, United States
CATEGORIES:Worship Service
END:VEVENT
BEGIN:VEVENT
DTSTART;TZID=America/Los_Angeles:20280116T120000
DTEND;TZID=America/Los_Angeles:20280116T130000
DTSTAMP:20260421T140238
CREATED:20190901T204840Z
LAST-MODIFIED:20231127T192010Z
UID:10000268-1831636800-1831640400@stpaulfairfield.org
SUMMARY:Sunday Worship Service
DESCRIPTION:
URL:https://stpaulfairfield.org/event/sunday-worship-service-18/2028-01-16/
LOCATION:Grace Episcopal Church\, 1405 Kentucky Street\, Fairfield\, CA\, 94533\, United States
CATEGORIES:Worship Service
END:VEVENT
BEGIN:VEVENT
DTSTART;TZID=America/Los_Angeles:20280123T120000
DTEND;TZID=America/Los_Angeles:20280123T130000
DTSTAMP:20260421T140238
CREATED:20190901T204840Z
LAST-MODIFIED:20231127T192010Z
UID:10000269-1832241600-1832245200@stpaulfairfield.org
SUMMARY:Sunday Worship Service
DESCRIPTION:
URL:https://stpaulfairfield.org/event/sunday-worship-service-18/2028-01-23/
LOCATION:Grace Episcopal Church\, 1405 Kentucky Street\, Fairfield\, CA\, 94533\, United States
CATEGORIES:Worship Service
END:VEVENT
BEGIN:VEVENT
DTSTART;TZID=America/Los_Angeles:20280130T120000
DTEND;TZID=America/Los_Angeles:20280130T130000
DTSTAMP:20260421T140238
CREATED:20190901T204840Z
LAST-MODIFIED:20231127T192010Z
UID:10000270-1832846400-1832850000@stpaulfairfield.org
SUMMARY:Sunday Worship Service
DESCRIPTION:
URL:https://stpaulfairfield.org/event/sunday-worship-service-18/2028-01-30/
LOCATION:Grace Episcopal Church\, 1405 Kentucky Street\, Fairfield\, CA\, 94533\, United States
CATEGORIES:Worship Service
END:VEVENT
BEGIN:VEVENT
DTSTART;TZID=America/Los_Angeles:20280206T120000
DTEND;TZID=America/Los_Angeles:20280206T130000
DTSTAMP:20260421T140238
CREATED:20190901T204840Z
LAST-MODIFIED:20231127T192010Z
UID:10000271-1833451200-1833454800@stpaulfairfield.org
SUMMARY:Sunday Worship Service
DESCRIPTION:
URL:https://stpaulfairfield.org/event/sunday-worship-service-18/2028-02-06/
LOCATION:Grace Episcopal Church\, 1405 Kentucky Street\, Fairfield\, CA\, 94533\, United States
CATEGORIES:Worship Service
END:VEVENT
BEGIN:VEVENT
DTSTART;TZID=America/Los_Angeles:20280213T120000
DTEND;TZID=America/Los_Angeles:20280213T130000
DTSTAMP:20260421T140238
CREATED:20190901T204840Z
LAST-MODIFIED:20231127T192010Z
UID:10000272-1834056000-1834059600@stpaulfairfield.org
SUMMARY:Sunday Worship Service
DESCRIPTION:
URL:https://stpaulfairfield.org/event/sunday-worship-service-18/2028-02-13/
LOCATION:Grace Episcopal Church\, 1405 Kentucky Street\, Fairfield\, CA\, 94533\, United States
CATEGORIES:Worship Service
END:VEVENT
BEGIN:VEVENT
DTSTART;TZID=America/Los_Angeles:20280220T120000
DTEND;TZID=America/Los_Angeles:20280220T130000
DTSTAMP:20260421T140238
CREATED:20190901T204840Z
LAST-MODIFIED:20231127T192010Z
UID:10000273-1834660800-1834664400@stpaulfairfield.org
SUMMARY:Sunday Worship Service
DESCRIPTION:
URL:https://stpaulfairfield.org/event/sunday-worship-service-18/2028-02-20/
LOCATION:Grace Episcopal Church\, 1405 Kentucky Street\, Fairfield\, CA\, 94533\, United States
CATEGORIES:Worship Service
END:VEVENT
BEGIN:VEVENT
DTSTART;TZID=America/Los_Angeles:20280227T120000
DTEND;TZID=America/Los_Angeles:20280227T130000
DTSTAMP:20260421T140238
CREATED:20190901T204840Z
LAST-MODIFIED:20231127T192010Z
UID:10000274-1835265600-1835269200@stpaulfairfield.org
SUMMARY:Sunday Worship Service
DESCRIPTION:
URL:https://stpaulfairfield.org/event/sunday-worship-service-18/2028-02-27/
LOCATION:Grace Episcopal Church\, 1405 Kentucky Street\, Fairfield\, CA\, 94533\, United States
CATEGORIES:Worship Service
END:VEVENT
BEGIN:VEVENT
DTSTART;TZID=America/Los_Angeles:20280305T120000
DTEND;TZID=America/Los_Angeles:20280305T130000
DTSTAMP:20260421T140238
CREATED:20190901T204840Z
LAST-MODIFIED:20231127T192010Z
UID:10000275-1835870400-1835874000@stpaulfairfield.org
SUMMARY:Sunday Worship Service
DESCRIPTION:
URL:https://stpaulfairfield.org/event/sunday-worship-service-18/2028-03-05/
LOCATION:Grace Episcopal Church\, 1405 Kentucky Street\, Fairfield\, CA\, 94533\, United States
CATEGORIES:Worship Service
END:VEVENT
BEGIN:VEVENT
DTSTART;TZID=America/Los_Angeles:20280312T120000
DTEND;TZID=America/Los_Angeles:20280312T130000
DTSTAMP:20260421T140238
CREATED:20190901T204840Z
LAST-MODIFIED:20231127T192010Z
UID:10000276-1836475200-1836478800@stpaulfairfield.org
SUMMARY:Sunday Worship Service
DESCRIPTION:
URL:https://stpaulfairfield.org/event/sunday-worship-service-18/2028-03-12/
LOCATION:Grace Episcopal Church\, 1405 Kentucky Street\, Fairfield\, CA\, 94533\, United States
CATEGORIES:Worship Service
END:VEVENT
BEGIN:VEVENT
DTSTART;TZID=America/Los_Angeles:20280319T120000
DTEND;TZID=America/Los_Angeles:20280319T130000
DTSTAMP:20260421T140238
CREATED:20190901T204840Z
LAST-MODIFIED:20231127T192010Z
UID:10000277-1837080000-1837083600@stpaulfairfield.org
SUMMARY:Sunday Worship Service
DESCRIPTION:
URL:https://stpaulfairfield.org/event/sunday-worship-service-18/2028-03-19/
LOCATION:Grace Episcopal Church\, 1405 Kentucky Street\, Fairfield\, CA\, 94533\, United States
CATEGORIES:Worship Service
END:VEVENT
BEGIN:VEVENT
DTSTART;TZID=America/Los_Angeles:20280326T120000
DTEND;TZID=America/Los_Angeles:20280326T130000
DTSTAMP:20260421T140238
CREATED:20190901T204840Z
LAST-MODIFIED:20231127T192010Z
UID:10000278-1837684800-1837688400@stpaulfairfield.org
SUMMARY:Sunday Worship Service
DESCRIPTION:
URL:https://stpaulfairfield.org/event/sunday-worship-service-18/2028-03-26/
LOCATION:Grace Episcopal Church\, 1405 Kentucky Street\, Fairfield\, CA\, 94533\, United States
CATEGORIES:Worship Service
END:VEVENT
BEGIN:VEVENT
DTSTART;TZID=America/Los_Angeles:20280402T120000
DTEND;TZID=America/Los_Angeles:20280402T130000
DTSTAMP:20260421T140238
CREATED:20190901T204840Z
LAST-MODIFIED:20231127T192010Z
UID:10000279-1838289600-1838293200@stpaulfairfield.org
SUMMARY:Sunday Worship Service
DESCRIPTION:
URL:https://stpaulfairfield.org/event/sunday-worship-service-18/2028-04-02/
LOCATION:Grace Episcopal Church\, 1405 Kentucky Street\, Fairfield\, CA\, 94533\, United States
CATEGORIES:Worship Service
END:VEVENT
END:VCALENDAR