BEGIN:VCALENDAR
VERSION:2.0
PRODID:-//St. Paul Baptist Church - Fairfield - ECPv6.15.20//NONSGML v1.0//EN
CALSCALE:GREGORIAN
METHOD:PUBLISH
X-WR-CALNAME:St. Paul Baptist Church - Fairfield
X-ORIGINAL-URL:https://stpaulfairfield.org
X-WR-CALDESC:Events for St. Paul Baptist Church - Fairfield
REFRESH-INTERVAL;VALUE=DURATION:PT1H
X-Robots-Tag:noindex
X-PUBLISHED-TTL:PT1H
BEGIN:VTIMEZONE
TZID:America/Los_Angeles
BEGIN:DAYLIGHT
TZOFFSETFROM:-0800
TZOFFSETTO:-0700
TZNAME:PDT
DTSTART:20260308T100000
END:DAYLIGHT
BEGIN:STANDARD
TZOFFSETFROM:-0700
TZOFFSETTO:-0800
TZNAME:PST
DTSTART:20261101T090000
END:STANDARD
BEGIN:DAYLIGHT
TZOFFSETFROM:-0800
TZOFFSETTO:-0700
TZNAME:PDT
DTSTART:20270314T100000
END:DAYLIGHT
BEGIN:STANDARD
TZOFFSETFROM:-0700
TZOFFSETTO:-0800
TZNAME:PST
DTSTART:20271107T090000
END:STANDARD
BEGIN:DAYLIGHT
TZOFFSETFROM:-0800
TZOFFSETTO:-0700
TZNAME:PDT
DTSTART:20280312T100000
END:DAYLIGHT
BEGIN:STANDARD
TZOFFSETFROM:-0700
TZOFFSETTO:-0800
TZNAME:PST
DTSTART:20281105T090000
END:STANDARD
END:VTIMEZONE
BEGIN:VEVENT
DTSTART;TZID=America/Los_Angeles:20270103T120000
DTEND;TZID=America/Los_Angeles:20270103T130000
DTSTAMP:20260421T085129
CREATED:20190901T204840Z
LAST-MODIFIED:20231127T192010Z
UID:10000214-1798977600-1798981200@stpaulfairfield.org
SUMMARY:Sunday Worship Service
DESCRIPTION:
URL:https://stpaulfairfield.org/event/sunday-worship-service-18/2027-01-03/
LOCATION:Grace Episcopal Church\, 1405 Kentucky Street\, Fairfield\, CA\, 94533\, United States
CATEGORIES:Worship Service
END:VEVENT
BEGIN:VEVENT
DTSTART;TZID=America/Los_Angeles:20270110T120000
DTEND;TZID=America/Los_Angeles:20270110T130000
DTSTAMP:20260421T085129
CREATED:20190901T204840Z
LAST-MODIFIED:20231127T192010Z
UID:10000215-1799582400-1799586000@stpaulfairfield.org
SUMMARY:Sunday Worship Service
DESCRIPTION:
URL:https://stpaulfairfield.org/event/sunday-worship-service-18/2027-01-10/
LOCATION:Grace Episcopal Church\, 1405 Kentucky Street\, Fairfield\, CA\, 94533\, United States
CATEGORIES:Worship Service
END:VEVENT
BEGIN:VEVENT
DTSTART;TZID=America/Los_Angeles:20270117T120000
DTEND;TZID=America/Los_Angeles:20270117T130000
DTSTAMP:20260421T085129
CREATED:20190901T204840Z
LAST-MODIFIED:20231127T192010Z
UID:10000216-1800187200-1800190800@stpaulfairfield.org
SUMMARY:Sunday Worship Service
DESCRIPTION:
URL:https://stpaulfairfield.org/event/sunday-worship-service-18/2027-01-17/
LOCATION:Grace Episcopal Church\, 1405 Kentucky Street\, Fairfield\, CA\, 94533\, United States
CATEGORIES:Worship Service
END:VEVENT
BEGIN:VEVENT
DTSTART;TZID=America/Los_Angeles:20270124T120000
DTEND;TZID=America/Los_Angeles:20270124T130000
DTSTAMP:20260421T085129
CREATED:20190901T204840Z
LAST-MODIFIED:20231127T192010Z
UID:10000217-1800792000-1800795600@stpaulfairfield.org
SUMMARY:Sunday Worship Service
DESCRIPTION:
URL:https://stpaulfairfield.org/event/sunday-worship-service-18/2027-01-24/
LOCATION:Grace Episcopal Church\, 1405 Kentucky Street\, Fairfield\, CA\, 94533\, United States
CATEGORIES:Worship Service
END:VEVENT
BEGIN:VEVENT
DTSTART;TZID=America/Los_Angeles:20270131T120000
DTEND;TZID=America/Los_Angeles:20270131T130000
DTSTAMP:20260421T085129
CREATED:20190901T204840Z
LAST-MODIFIED:20231127T192010Z
UID:10000218-1801396800-1801400400@stpaulfairfield.org
SUMMARY:Sunday Worship Service
DESCRIPTION:
URL:https://stpaulfairfield.org/event/sunday-worship-service-18/2027-01-31/
LOCATION:Grace Episcopal Church\, 1405 Kentucky Street\, Fairfield\, CA\, 94533\, United States
CATEGORIES:Worship Service
END:VEVENT
BEGIN:VEVENT
DTSTART;TZID=America/Los_Angeles:20270207T120000
DTEND;TZID=America/Los_Angeles:20270207T130000
DTSTAMP:20260421T085129
CREATED:20190901T204840Z
LAST-MODIFIED:20231127T192010Z
UID:10000219-1802001600-1802005200@stpaulfairfield.org
SUMMARY:Sunday Worship Service
DESCRIPTION:
URL:https://stpaulfairfield.org/event/sunday-worship-service-18/2027-02-07/
LOCATION:Grace Episcopal Church\, 1405 Kentucky Street\, Fairfield\, CA\, 94533\, United States
CATEGORIES:Worship Service
END:VEVENT
BEGIN:VEVENT
DTSTART;TZID=America/Los_Angeles:20270214T120000
DTEND;TZID=America/Los_Angeles:20270214T130000
DTSTAMP:20260421T085129
CREATED:20190901T204840Z
LAST-MODIFIED:20231127T192010Z
UID:10000220-1802606400-1802610000@stpaulfairfield.org
SUMMARY:Sunday Worship Service
DESCRIPTION:
URL:https://stpaulfairfield.org/event/sunday-worship-service-18/2027-02-14/
LOCATION:Grace Episcopal Church\, 1405 Kentucky Street\, Fairfield\, CA\, 94533\, United States
CATEGORIES:Worship Service
END:VEVENT
BEGIN:VEVENT
DTSTART;TZID=America/Los_Angeles:20270221T120000
DTEND;TZID=America/Los_Angeles:20270221T130000
DTSTAMP:20260421T085129
CREATED:20190901T204840Z
LAST-MODIFIED:20231127T192010Z
UID:10000221-1803211200-1803214800@stpaulfairfield.org
SUMMARY:Sunday Worship Service
DESCRIPTION:
URL:https://stpaulfairfield.org/event/sunday-worship-service-18/2027-02-21/
LOCATION:Grace Episcopal Church\, 1405 Kentucky Street\, Fairfield\, CA\, 94533\, United States
CATEGORIES:Worship Service
END:VEVENT
BEGIN:VEVENT
DTSTART;TZID=America/Los_Angeles:20270228T120000
DTEND;TZID=America/Los_Angeles:20270228T130000
DTSTAMP:20260421T085129
CREATED:20190901T204840Z
LAST-MODIFIED:20231127T192010Z
UID:10000222-1803816000-1803819600@stpaulfairfield.org
SUMMARY:Sunday Worship Service
DESCRIPTION:
URL:https://stpaulfairfield.org/event/sunday-worship-service-18/2027-02-28/
LOCATION:Grace Episcopal Church\, 1405 Kentucky Street\, Fairfield\, CA\, 94533\, United States
CATEGORIES:Worship Service
END:VEVENT
BEGIN:VEVENT
DTSTART;TZID=America/Los_Angeles:20270307T120000
DTEND;TZID=America/Los_Angeles:20270307T130000
DTSTAMP:20260421T085129
CREATED:20190901T204840Z
LAST-MODIFIED:20231127T192010Z
UID:10000223-1804420800-1804424400@stpaulfairfield.org
SUMMARY:Sunday Worship Service
DESCRIPTION:
URL:https://stpaulfairfield.org/event/sunday-worship-service-18/2027-03-07/
LOCATION:Grace Episcopal Church\, 1405 Kentucky Street\, Fairfield\, CA\, 94533\, United States
CATEGORIES:Worship Service
END:VEVENT
BEGIN:VEVENT
DTSTART;TZID=America/Los_Angeles:20270314T120000
DTEND;TZID=America/Los_Angeles:20270314T130000
DTSTAMP:20260421T085129
CREATED:20190901T204840Z
LAST-MODIFIED:20231127T192010Z
UID:10000224-1805025600-1805029200@stpaulfairfield.org
SUMMARY:Sunday Worship Service
DESCRIPTION:
URL:https://stpaulfairfield.org/event/sunday-worship-service-18/2027-03-14/
LOCATION:Grace Episcopal Church\, 1405 Kentucky Street\, Fairfield\, CA\, 94533\, United States
CATEGORIES:Worship Service
END:VEVENT
BEGIN:VEVENT
DTSTART;TZID=America/Los_Angeles:20270321T120000
DTEND;TZID=America/Los_Angeles:20270321T130000
DTSTAMP:20260421T085129
CREATED:20190901T204840Z
LAST-MODIFIED:20231127T192010Z
UID:10000225-1805630400-1805634000@stpaulfairfield.org
SUMMARY:Sunday Worship Service
DESCRIPTION:
URL:https://stpaulfairfield.org/event/sunday-worship-service-18/2027-03-21/
LOCATION:Grace Episcopal Church\, 1405 Kentucky Street\, Fairfield\, CA\, 94533\, United States
CATEGORIES:Worship Service
END:VEVENT
BEGIN:VEVENT
DTSTART;TZID=America/Los_Angeles:20270328T120000
DTEND;TZID=America/Los_Angeles:20270328T130000
DTSTAMP:20260421T085129
CREATED:20190901T204840Z
LAST-MODIFIED:20231127T192010Z
UID:10000226-1806235200-1806238800@stpaulfairfield.org
SUMMARY:Sunday Worship Service
DESCRIPTION:
URL:https://stpaulfairfield.org/event/sunday-worship-service-18/2027-03-28/
LOCATION:Grace Episcopal Church\, 1405 Kentucky Street\, Fairfield\, CA\, 94533\, United States
CATEGORIES:Worship Service
END:VEVENT
BEGIN:VEVENT
DTSTART;TZID=America/Los_Angeles:20270404T120000
DTEND;TZID=America/Los_Angeles:20270404T130000
DTSTAMP:20260421T085129
CREATED:20190901T204840Z
LAST-MODIFIED:20231127T192010Z
UID:10000227-1806840000-1806843600@stpaulfairfield.org
SUMMARY:Sunday Worship Service
DESCRIPTION:
URL:https://stpaulfairfield.org/event/sunday-worship-service-18/2027-04-04/
LOCATION:Grace Episcopal Church\, 1405 Kentucky Street\, Fairfield\, CA\, 94533\, United States
CATEGORIES:Worship Service
END:VEVENT
BEGIN:VEVENT
DTSTART;TZID=America/Los_Angeles:20270411T120000
DTEND;TZID=America/Los_Angeles:20270411T130000
DTSTAMP:20260421T085129
CREATED:20190901T204840Z
LAST-MODIFIED:20231127T192010Z
UID:10000228-1807444800-1807448400@stpaulfairfield.org
SUMMARY:Sunday Worship Service
DESCRIPTION:
URL:https://stpaulfairfield.org/event/sunday-worship-service-18/2027-04-11/
LOCATION:Grace Episcopal Church\, 1405 Kentucky Street\, Fairfield\, CA\, 94533\, United States
CATEGORIES:Worship Service
END:VEVENT
BEGIN:VEVENT
DTSTART;TZID=America/Los_Angeles:20270418T120000
DTEND;TZID=America/Los_Angeles:20270418T130000
DTSTAMP:20260421T085129
CREATED:20190901T204840Z
LAST-MODIFIED:20231127T192010Z
UID:10000229-1808049600-1808053200@stpaulfairfield.org
SUMMARY:Sunday Worship Service
DESCRIPTION:
URL:https://stpaulfairfield.org/event/sunday-worship-service-18/2027-04-18/
LOCATION:Grace Episcopal Church\, 1405 Kentucky Street\, Fairfield\, CA\, 94533\, United States
CATEGORIES:Worship Service
END:VEVENT
BEGIN:VEVENT
DTSTART;TZID=America/Los_Angeles:20270425T120000
DTEND;TZID=America/Los_Angeles:20270425T130000
DTSTAMP:20260421T085129
CREATED:20190901T204840Z
LAST-MODIFIED:20231127T192010Z
UID:10000230-1808654400-1808658000@stpaulfairfield.org
SUMMARY:Sunday Worship Service
DESCRIPTION:
URL:https://stpaulfairfield.org/event/sunday-worship-service-18/2027-04-25/
LOCATION:Grace Episcopal Church\, 1405 Kentucky Street\, Fairfield\, CA\, 94533\, United States
CATEGORIES:Worship Service
END:VEVENT
BEGIN:VEVENT
DTSTART;TZID=America/Los_Angeles:20270502T120000
DTEND;TZID=America/Los_Angeles:20270502T130000
DTSTAMP:20260421T085129
CREATED:20190901T204840Z
LAST-MODIFIED:20231127T192010Z
UID:10000231-1809259200-1809262800@stpaulfairfield.org
SUMMARY:Sunday Worship Service
DESCRIPTION:
URL:https://stpaulfairfield.org/event/sunday-worship-service-18/2027-05-02/
LOCATION:Grace Episcopal Church\, 1405 Kentucky Street\, Fairfield\, CA\, 94533\, United States
CATEGORIES:Worship Service
END:VEVENT
BEGIN:VEVENT
DTSTART;TZID=America/Los_Angeles:20270509T120000
DTEND;TZID=America/Los_Angeles:20270509T130000
DTSTAMP:20260421T085129
CREATED:20190901T204840Z
LAST-MODIFIED:20231127T192010Z
UID:10000232-1809864000-1809867600@stpaulfairfield.org
SUMMARY:Sunday Worship Service
DESCRIPTION:
URL:https://stpaulfairfield.org/event/sunday-worship-service-18/2027-05-09/
LOCATION:Grace Episcopal Church\, 1405 Kentucky Street\, Fairfield\, CA\, 94533\, United States
CATEGORIES:Worship Service
END:VEVENT
BEGIN:VEVENT
DTSTART;TZID=America/Los_Angeles:20270516T120000
DTEND;TZID=America/Los_Angeles:20270516T130000
DTSTAMP:20260421T085129
CREATED:20190901T204840Z
LAST-MODIFIED:20231127T192010Z
UID:10000233-1810468800-1810472400@stpaulfairfield.org
SUMMARY:Sunday Worship Service
DESCRIPTION:
URL:https://stpaulfairfield.org/event/sunday-worship-service-18/2027-05-16/
LOCATION:Grace Episcopal Church\, 1405 Kentucky Street\, Fairfield\, CA\, 94533\, United States
CATEGORIES:Worship Service
END:VEVENT
BEGIN:VEVENT
DTSTART;TZID=America/Los_Angeles:20270523T120000
DTEND;TZID=America/Los_Angeles:20270523T130000
DTSTAMP:20260421T085129
CREATED:20190901T204840Z
LAST-MODIFIED:20231127T192010Z
UID:10000234-1811073600-1811077200@stpaulfairfield.org
SUMMARY:Sunday Worship Service
DESCRIPTION:
URL:https://stpaulfairfield.org/event/sunday-worship-service-18/2027-05-23/
LOCATION:Grace Episcopal Church\, 1405 Kentucky Street\, Fairfield\, CA\, 94533\, United States
CATEGORIES:Worship Service
END:VEVENT
BEGIN:VEVENT
DTSTART;TZID=America/Los_Angeles:20270530T120000
DTEND;TZID=America/Los_Angeles:20270530T130000
DTSTAMP:20260421T085129
CREATED:20190901T204840Z
LAST-MODIFIED:20231127T192010Z
UID:10000235-1811678400-1811682000@stpaulfairfield.org
SUMMARY:Sunday Worship Service
DESCRIPTION:
URL:https://stpaulfairfield.org/event/sunday-worship-service-18/2027-05-30/
LOCATION:Grace Episcopal Church\, 1405 Kentucky Street\, Fairfield\, CA\, 94533\, United States
CATEGORIES:Worship Service
END:VEVENT
BEGIN:VEVENT
DTSTART;TZID=America/Los_Angeles:20270606T120000
DTEND;TZID=America/Los_Angeles:20270606T130000
DTSTAMP:20260421T085129
CREATED:20190901T204840Z
LAST-MODIFIED:20231127T192010Z
UID:10000236-1812283200-1812286800@stpaulfairfield.org
SUMMARY:Sunday Worship Service
DESCRIPTION:
URL:https://stpaulfairfield.org/event/sunday-worship-service-18/2027-06-06/
LOCATION:Grace Episcopal Church\, 1405 Kentucky Street\, Fairfield\, CA\, 94533\, United States
CATEGORIES:Worship Service
END:VEVENT
BEGIN:VEVENT
DTSTART;TZID=America/Los_Angeles:20270613T120000
DTEND;TZID=America/Los_Angeles:20270613T130000
DTSTAMP:20260421T085129
CREATED:20190901T204840Z
LAST-MODIFIED:20231127T192010Z
UID:10000237-1812888000-1812891600@stpaulfairfield.org
SUMMARY:Sunday Worship Service
DESCRIPTION:
URL:https://stpaulfairfield.org/event/sunday-worship-service-18/2027-06-13/
LOCATION:Grace Episcopal Church\, 1405 Kentucky Street\, Fairfield\, CA\, 94533\, United States
CATEGORIES:Worship Service
END:VEVENT
BEGIN:VEVENT
DTSTART;TZID=America/Los_Angeles:20270620T120000
DTEND;TZID=America/Los_Angeles:20270620T130000
DTSTAMP:20260421T085129
CREATED:20190901T204840Z
LAST-MODIFIED:20231127T192010Z
UID:10000238-1813492800-1813496400@stpaulfairfield.org
SUMMARY:Sunday Worship Service
DESCRIPTION:
URL:https://stpaulfairfield.org/event/sunday-worship-service-18/2027-06-20/
LOCATION:Grace Episcopal Church\, 1405 Kentucky Street\, Fairfield\, CA\, 94533\, United States
CATEGORIES:Worship Service
END:VEVENT
BEGIN:VEVENT
DTSTART;TZID=America/Los_Angeles:20270627T120000
DTEND;TZID=America/Los_Angeles:20270627T130000
DTSTAMP:20260421T085129
CREATED:20190901T204840Z
LAST-MODIFIED:20231127T192010Z
UID:10000239-1814097600-1814101200@stpaulfairfield.org
SUMMARY:Sunday Worship Service
DESCRIPTION:
URL:https://stpaulfairfield.org/event/sunday-worship-service-18/2027-06-27/
LOCATION:Grace Episcopal Church\, 1405 Kentucky Street\, Fairfield\, CA\, 94533\, United States
CATEGORIES:Worship Service
END:VEVENT
BEGIN:VEVENT
DTSTART;TZID=America/Los_Angeles:20270704T120000
DTEND;TZID=America/Los_Angeles:20270704T130000
DTSTAMP:20260421T085129
CREATED:20190901T204840Z
LAST-MODIFIED:20231127T192010Z
UID:10000240-1814702400-1814706000@stpaulfairfield.org
SUMMARY:Sunday Worship Service
DESCRIPTION:
URL:https://stpaulfairfield.org/event/sunday-worship-service-18/2027-07-04/
LOCATION:Grace Episcopal Church\, 1405 Kentucky Street\, Fairfield\, CA\, 94533\, United States
CATEGORIES:Worship Service
END:VEVENT
BEGIN:VEVENT
DTSTART;TZID=America/Los_Angeles:20270711T120000
DTEND;TZID=America/Los_Angeles:20270711T130000
DTSTAMP:20260421T085129
CREATED:20190901T204840Z
LAST-MODIFIED:20231127T192010Z
UID:10000241-1815307200-1815310800@stpaulfairfield.org
SUMMARY:Sunday Worship Service
DESCRIPTION:
URL:https://stpaulfairfield.org/event/sunday-worship-service-18/2027-07-11/
LOCATION:Grace Episcopal Church\, 1405 Kentucky Street\, Fairfield\, CA\, 94533\, United States
CATEGORIES:Worship Service
END:VEVENT
BEGIN:VEVENT
DTSTART;TZID=America/Los_Angeles:20270718T120000
DTEND;TZID=America/Los_Angeles:20270718T130000
DTSTAMP:20260421T085129
CREATED:20190901T204840Z
LAST-MODIFIED:20231127T192010Z
UID:10000242-1815912000-1815915600@stpaulfairfield.org
SUMMARY:Sunday Worship Service
DESCRIPTION:
URL:https://stpaulfairfield.org/event/sunday-worship-service-18/2027-07-18/
LOCATION:Grace Episcopal Church\, 1405 Kentucky Street\, Fairfield\, CA\, 94533\, United States
CATEGORIES:Worship Service
END:VEVENT
BEGIN:VEVENT
DTSTART;TZID=America/Los_Angeles:20270725T120000
DTEND;TZID=America/Los_Angeles:20270725T130000
DTSTAMP:20260421T085129
CREATED:20190901T204840Z
LAST-MODIFIED:20231127T192010Z
UID:10000243-1816516800-1816520400@stpaulfairfield.org
SUMMARY:Sunday Worship Service
DESCRIPTION:
URL:https://stpaulfairfield.org/event/sunday-worship-service-18/2027-07-25/
LOCATION:Grace Episcopal Church\, 1405 Kentucky Street\, Fairfield\, CA\, 94533\, United States
CATEGORIES:Worship Service
END:VEVENT
END:VCALENDAR