BEGIN:VCALENDAR
VERSION:2.0
PRODID:-//St. Paul Baptist Church - Fairfield - ECPv6.15.20//NONSGML v1.0//EN
CALSCALE:GREGORIAN
METHOD:PUBLISH
X-ORIGINAL-URL:https://stpaulfairfield.org
X-WR-CALDESC:Events for St. Paul Baptist Church - Fairfield
REFRESH-INTERVAL;VALUE=DURATION:PT1H
X-Robots-Tag:noindex
X-PUBLISHED-TTL:PT1H
BEGIN:VTIMEZONE
TZID:America/Los_Angeles
BEGIN:DAYLIGHT
TZOFFSETFROM:-0800
TZOFFSETTO:-0700
TZNAME:PDT
DTSTART:20250309T100000
END:DAYLIGHT
BEGIN:STANDARD
TZOFFSETFROM:-0700
TZOFFSETTO:-0800
TZNAME:PST
DTSTART:20251102T090000
END:STANDARD
BEGIN:DAYLIGHT
TZOFFSETFROM:-0800
TZOFFSETTO:-0700
TZNAME:PDT
DTSTART:20260308T100000
END:DAYLIGHT
BEGIN:STANDARD
TZOFFSETFROM:-0700
TZOFFSETTO:-0800
TZNAME:PST
DTSTART:20261101T090000
END:STANDARD
BEGIN:DAYLIGHT
TZOFFSETFROM:-0800
TZOFFSETTO:-0700
TZNAME:PDT
DTSTART:20270314T100000
END:DAYLIGHT
BEGIN:STANDARD
TZOFFSETFROM:-0700
TZOFFSETTO:-0800
TZNAME:PST
DTSTART:20271107T090000
END:STANDARD
BEGIN:DAYLIGHT
TZOFFSETFROM:-0800
TZOFFSETTO:-0700
TZNAME:PDT
DTSTART:20280312T100000
END:DAYLIGHT
BEGIN:STANDARD
TZOFFSETFROM:-0700
TZOFFSETTO:-0800
TZNAME:PST
DTSTART:20281105T090000
END:STANDARD
END:VTIMEZONE
BEGIN:VEVENT
DTSTART;TZID=America/Los_Angeles:20260719T120000
DTEND;TZID=America/Los_Angeles:20260719T130000
DTSTAMP:20260421T051912
CREATED:20190901T204840Z
LAST-MODIFIED:20231127T192010Z
UID:10000190-1784462400-1784466000@stpaulfairfield.org
SUMMARY:Sunday Worship Service
DESCRIPTION:
URL:https://stpaulfairfield.org/event/sunday-worship-service-18/2026-07-19/
LOCATION:Grace Episcopal Church\, 1405 Kentucky Street\, Fairfield\, CA\, 94533\, United States
CATEGORIES:Worship Service
END:VEVENT
BEGIN:VEVENT
DTSTART;TZID=America/Los_Angeles:20260726T120000
DTEND;TZID=America/Los_Angeles:20260726T130000
DTSTAMP:20260421T051912
CREATED:20190901T204840Z
LAST-MODIFIED:20231127T192010Z
UID:10000191-1785067200-1785070800@stpaulfairfield.org
SUMMARY:Sunday Worship Service
DESCRIPTION:
URL:https://stpaulfairfield.org/event/sunday-worship-service-18/2026-07-26/
LOCATION:Grace Episcopal Church\, 1405 Kentucky Street\, Fairfield\, CA\, 94533\, United States
CATEGORIES:Worship Service
END:VEVENT
BEGIN:VEVENT
DTSTART;TZID=America/Los_Angeles:20260802T120000
DTEND;TZID=America/Los_Angeles:20260802T130000
DTSTAMP:20260421T051912
CREATED:20190901T204840Z
LAST-MODIFIED:20231127T192010Z
UID:10000192-1785672000-1785675600@stpaulfairfield.org
SUMMARY:Sunday Worship Service
DESCRIPTION:
URL:https://stpaulfairfield.org/event/sunday-worship-service-18/2026-08-02/
LOCATION:Grace Episcopal Church\, 1405 Kentucky Street\, Fairfield\, CA\, 94533\, United States
CATEGORIES:Worship Service
END:VEVENT
BEGIN:VEVENT
DTSTART;TZID=America/Los_Angeles:20260809T120000
DTEND;TZID=America/Los_Angeles:20260809T130000
DTSTAMP:20260421T051912
CREATED:20190901T204840Z
LAST-MODIFIED:20231127T192010Z
UID:10000193-1786276800-1786280400@stpaulfairfield.org
SUMMARY:Sunday Worship Service
DESCRIPTION:
URL:https://stpaulfairfield.org/event/sunday-worship-service-18/2026-08-09/
LOCATION:Grace Episcopal Church\, 1405 Kentucky Street\, Fairfield\, CA\, 94533\, United States
CATEGORIES:Worship Service
END:VEVENT
BEGIN:VEVENT
DTSTART;TZID=America/Los_Angeles:20260816T120000
DTEND;TZID=America/Los_Angeles:20260816T130000
DTSTAMP:20260421T051912
CREATED:20190901T204840Z
LAST-MODIFIED:20231127T192010Z
UID:10000194-1786881600-1786885200@stpaulfairfield.org
SUMMARY:Sunday Worship Service
DESCRIPTION:
URL:https://stpaulfairfield.org/event/sunday-worship-service-18/2026-08-16/
LOCATION:Grace Episcopal Church\, 1405 Kentucky Street\, Fairfield\, CA\, 94533\, United States
CATEGORIES:Worship Service
END:VEVENT
BEGIN:VEVENT
DTSTART;TZID=America/Los_Angeles:20260823T120000
DTEND;TZID=America/Los_Angeles:20260823T130000
DTSTAMP:20260421T051912
CREATED:20190901T204840Z
LAST-MODIFIED:20231127T192010Z
UID:10000195-1787486400-1787490000@stpaulfairfield.org
SUMMARY:Sunday Worship Service
DESCRIPTION:
URL:https://stpaulfairfield.org/event/sunday-worship-service-18/2026-08-23/
LOCATION:Grace Episcopal Church\, 1405 Kentucky Street\, Fairfield\, CA\, 94533\, United States
CATEGORIES:Worship Service
END:VEVENT
BEGIN:VEVENT
DTSTART;TZID=America/Los_Angeles:20260830T120000
DTEND;TZID=America/Los_Angeles:20260830T130000
DTSTAMP:20260421T051912
CREATED:20190901T204840Z
LAST-MODIFIED:20231127T192010Z
UID:10000196-1788091200-1788094800@stpaulfairfield.org
SUMMARY:Sunday Worship Service
DESCRIPTION:
URL:https://stpaulfairfield.org/event/sunday-worship-service-18/2026-08-30/
LOCATION:Grace Episcopal Church\, 1405 Kentucky Street\, Fairfield\, CA\, 94533\, United States
CATEGORIES:Worship Service
END:VEVENT
BEGIN:VEVENT
DTSTART;TZID=America/Los_Angeles:20260906T120000
DTEND;TZID=America/Los_Angeles:20260906T130000
DTSTAMP:20260421T051912
CREATED:20190901T204840Z
LAST-MODIFIED:20231127T192010Z
UID:10000197-1788696000-1788699600@stpaulfairfield.org
SUMMARY:Sunday Worship Service
DESCRIPTION:
URL:https://stpaulfairfield.org/event/sunday-worship-service-18/2026-09-06/
LOCATION:Grace Episcopal Church\, 1405 Kentucky Street\, Fairfield\, CA\, 94533\, United States
CATEGORIES:Worship Service
END:VEVENT
BEGIN:VEVENT
DTSTART;TZID=America/Los_Angeles:20260913T120000
DTEND;TZID=America/Los_Angeles:20260913T130000
DTSTAMP:20260421T051912
CREATED:20190901T204840Z
LAST-MODIFIED:20231127T192010Z
UID:10000198-1789300800-1789304400@stpaulfairfield.org
SUMMARY:Sunday Worship Service
DESCRIPTION:
URL:https://stpaulfairfield.org/event/sunday-worship-service-18/2026-09-13/
LOCATION:Grace Episcopal Church\, 1405 Kentucky Street\, Fairfield\, CA\, 94533\, United States
CATEGORIES:Worship Service
END:VEVENT
BEGIN:VEVENT
DTSTART;TZID=America/Los_Angeles:20260920T120000
DTEND;TZID=America/Los_Angeles:20260920T130000
DTSTAMP:20260421T051912
CREATED:20190901T204840Z
LAST-MODIFIED:20231127T192010Z
UID:10000199-1789905600-1789909200@stpaulfairfield.org
SUMMARY:Sunday Worship Service
DESCRIPTION:
URL:https://stpaulfairfield.org/event/sunday-worship-service-18/2026-09-20/
LOCATION:Grace Episcopal Church\, 1405 Kentucky Street\, Fairfield\, CA\, 94533\, United States
CATEGORIES:Worship Service
END:VEVENT
BEGIN:VEVENT
DTSTART;TZID=America/Los_Angeles:20260927T120000
DTEND;TZID=America/Los_Angeles:20260927T130000
DTSTAMP:20260421T051912
CREATED:20190901T204840Z
LAST-MODIFIED:20231127T192010Z
UID:10000200-1790510400-1790514000@stpaulfairfield.org
SUMMARY:Sunday Worship Service
DESCRIPTION:
URL:https://stpaulfairfield.org/event/sunday-worship-service-18/2026-09-27/
LOCATION:Grace Episcopal Church\, 1405 Kentucky Street\, Fairfield\, CA\, 94533\, United States
CATEGORIES:Worship Service
END:VEVENT
BEGIN:VEVENT
DTSTART;TZID=America/Los_Angeles:20261004T120000
DTEND;TZID=America/Los_Angeles:20261004T130000
DTSTAMP:20260421T051912
CREATED:20190901T204840Z
LAST-MODIFIED:20231127T192010Z
UID:10000201-1791115200-1791118800@stpaulfairfield.org
SUMMARY:Sunday Worship Service
DESCRIPTION:
URL:https://stpaulfairfield.org/event/sunday-worship-service-18/2026-10-04/
LOCATION:Grace Episcopal Church\, 1405 Kentucky Street\, Fairfield\, CA\, 94533\, United States
CATEGORIES:Worship Service
END:VEVENT
BEGIN:VEVENT
DTSTART;TZID=America/Los_Angeles:20261011T120000
DTEND;TZID=America/Los_Angeles:20261011T130000
DTSTAMP:20260421T051912
CREATED:20190901T204840Z
LAST-MODIFIED:20231127T192010Z
UID:10000202-1791720000-1791723600@stpaulfairfield.org
SUMMARY:Sunday Worship Service
DESCRIPTION:
URL:https://stpaulfairfield.org/event/sunday-worship-service-18/2026-10-11/
LOCATION:Grace Episcopal Church\, 1405 Kentucky Street\, Fairfield\, CA\, 94533\, United States
CATEGORIES:Worship Service
END:VEVENT
BEGIN:VEVENT
DTSTART;TZID=America/Los_Angeles:20261018T120000
DTEND;TZID=America/Los_Angeles:20261018T130000
DTSTAMP:20260421T051912
CREATED:20190901T204840Z
LAST-MODIFIED:20231127T192010Z
UID:10000203-1792324800-1792328400@stpaulfairfield.org
SUMMARY:Sunday Worship Service
DESCRIPTION:
URL:https://stpaulfairfield.org/event/sunday-worship-service-18/2026-10-18/
LOCATION:Grace Episcopal Church\, 1405 Kentucky Street\, Fairfield\, CA\, 94533\, United States
CATEGORIES:Worship Service
END:VEVENT
BEGIN:VEVENT
DTSTART;TZID=America/Los_Angeles:20261025T120000
DTEND;TZID=America/Los_Angeles:20261025T130000
DTSTAMP:20260421T051912
CREATED:20190901T204840Z
LAST-MODIFIED:20231127T192010Z
UID:10000204-1792929600-1792933200@stpaulfairfield.org
SUMMARY:Sunday Worship Service
DESCRIPTION:
URL:https://stpaulfairfield.org/event/sunday-worship-service-18/2026-10-25/
LOCATION:Grace Episcopal Church\, 1405 Kentucky Street\, Fairfield\, CA\, 94533\, United States
CATEGORIES:Worship Service
END:VEVENT
BEGIN:VEVENT
DTSTART;TZID=America/Los_Angeles:20261101T120000
DTEND;TZID=America/Los_Angeles:20261101T130000
DTSTAMP:20260421T051912
CREATED:20190901T204840Z
LAST-MODIFIED:20231127T192010Z
UID:10000205-1793534400-1793538000@stpaulfairfield.org
SUMMARY:Sunday Worship Service
DESCRIPTION:
URL:https://stpaulfairfield.org/event/sunday-worship-service-18/2026-11-01/
LOCATION:Grace Episcopal Church\, 1405 Kentucky Street\, Fairfield\, CA\, 94533\, United States
CATEGORIES:Worship Service
END:VEVENT
BEGIN:VEVENT
DTSTART;TZID=America/Los_Angeles:20261108T120000
DTEND;TZID=America/Los_Angeles:20261108T130000
DTSTAMP:20260421T051912
CREATED:20190901T204840Z
LAST-MODIFIED:20231127T192010Z
UID:10000206-1794139200-1794142800@stpaulfairfield.org
SUMMARY:Sunday Worship Service
DESCRIPTION:
URL:https://stpaulfairfield.org/event/sunday-worship-service-18/2026-11-08/
LOCATION:Grace Episcopal Church\, 1405 Kentucky Street\, Fairfield\, CA\, 94533\, United States
CATEGORIES:Worship Service
END:VEVENT
BEGIN:VEVENT
DTSTART;TZID=America/Los_Angeles:20261115T120000
DTEND;TZID=America/Los_Angeles:20261115T130000
DTSTAMP:20260421T051912
CREATED:20190901T204840Z
LAST-MODIFIED:20231127T192010Z
UID:10000207-1794744000-1794747600@stpaulfairfield.org
SUMMARY:Sunday Worship Service
DESCRIPTION:
URL:https://stpaulfairfield.org/event/sunday-worship-service-18/2026-11-15/
LOCATION:Grace Episcopal Church\, 1405 Kentucky Street\, Fairfield\, CA\, 94533\, United States
CATEGORIES:Worship Service
END:VEVENT
BEGIN:VEVENT
DTSTART;TZID=America/Los_Angeles:20261122T120000
DTEND;TZID=America/Los_Angeles:20261122T130000
DTSTAMP:20260421T051912
CREATED:20190901T204840Z
LAST-MODIFIED:20231127T192010Z
UID:10000208-1795348800-1795352400@stpaulfairfield.org
SUMMARY:Sunday Worship Service
DESCRIPTION:
URL:https://stpaulfairfield.org/event/sunday-worship-service-18/2026-11-22/
LOCATION:Grace Episcopal Church\, 1405 Kentucky Street\, Fairfield\, CA\, 94533\, United States
CATEGORIES:Worship Service
END:VEVENT
BEGIN:VEVENT
DTSTART;TZID=America/Los_Angeles:20261129T120000
DTEND;TZID=America/Los_Angeles:20261129T130000
DTSTAMP:20260421T051912
CREATED:20190901T204840Z
LAST-MODIFIED:20231127T192010Z
UID:10000209-1795953600-1795957200@stpaulfairfield.org
SUMMARY:Sunday Worship Service
DESCRIPTION:
URL:https://stpaulfairfield.org/event/sunday-worship-service-18/2026-11-29/
LOCATION:Grace Episcopal Church\, 1405 Kentucky Street\, Fairfield\, CA\, 94533\, United States
CATEGORIES:Worship Service
END:VEVENT
BEGIN:VEVENT
DTSTART;TZID=America/Los_Angeles:20261206T120000
DTEND;TZID=America/Los_Angeles:20261206T130000
DTSTAMP:20260421T051912
CREATED:20190901T204840Z
LAST-MODIFIED:20231127T192010Z
UID:10000210-1796558400-1796562000@stpaulfairfield.org
SUMMARY:Sunday Worship Service
DESCRIPTION:
URL:https://stpaulfairfield.org/event/sunday-worship-service-18/2026-12-06/
LOCATION:Grace Episcopal Church\, 1405 Kentucky Street\, Fairfield\, CA\, 94533\, United States
CATEGORIES:Worship Service
END:VEVENT
BEGIN:VEVENT
DTSTART;TZID=America/Los_Angeles:20261213T120000
DTEND;TZID=America/Los_Angeles:20261213T130000
DTSTAMP:20260421T051912
CREATED:20190901T204840Z
LAST-MODIFIED:20231127T192010Z
UID:10000211-1797163200-1797166800@stpaulfairfield.org
SUMMARY:Sunday Worship Service
DESCRIPTION:
URL:https://stpaulfairfield.org/event/sunday-worship-service-18/2026-12-13/
LOCATION:Grace Episcopal Church\, 1405 Kentucky Street\, Fairfield\, CA\, 94533\, United States
CATEGORIES:Worship Service
END:VEVENT
BEGIN:VEVENT
DTSTART;TZID=America/Los_Angeles:20261220T120000
DTEND;TZID=America/Los_Angeles:20261220T130000
DTSTAMP:20260421T051912
CREATED:20190901T204840Z
LAST-MODIFIED:20231127T192010Z
UID:10000212-1797768000-1797771600@stpaulfairfield.org
SUMMARY:Sunday Worship Service
DESCRIPTION:
URL:https://stpaulfairfield.org/event/sunday-worship-service-18/2026-12-20/
LOCATION:Grace Episcopal Church\, 1405 Kentucky Street\, Fairfield\, CA\, 94533\, United States
CATEGORIES:Worship Service
END:VEVENT
BEGIN:VEVENT
DTSTART;TZID=America/Los_Angeles:20261227T120000
DTEND;TZID=America/Los_Angeles:20261227T130000
DTSTAMP:20260421T051912
CREATED:20190901T204840Z
LAST-MODIFIED:20231127T192010Z
UID:10000213-1798372800-1798376400@stpaulfairfield.org
SUMMARY:Sunday Worship Service
DESCRIPTION:
URL:https://stpaulfairfield.org/event/sunday-worship-service-18/2026-12-27/
LOCATION:Grace Episcopal Church\, 1405 Kentucky Street\, Fairfield\, CA\, 94533\, United States
CATEGORIES:Worship Service
END:VEVENT
BEGIN:VEVENT
DTSTART;TZID=America/Los_Angeles:20270103T120000
DTEND;TZID=America/Los_Angeles:20270103T130000
DTSTAMP:20260421T051912
CREATED:20190901T204840Z
LAST-MODIFIED:20231127T192010Z
UID:10000214-1798977600-1798981200@stpaulfairfield.org
SUMMARY:Sunday Worship Service
DESCRIPTION:
URL:https://stpaulfairfield.org/event/sunday-worship-service-18/2027-01-03/
LOCATION:Grace Episcopal Church\, 1405 Kentucky Street\, Fairfield\, CA\, 94533\, United States
CATEGORIES:Worship Service
END:VEVENT
BEGIN:VEVENT
DTSTART;TZID=America/Los_Angeles:20270110T120000
DTEND;TZID=America/Los_Angeles:20270110T130000
DTSTAMP:20260421T051912
CREATED:20190901T204840Z
LAST-MODIFIED:20231127T192010Z
UID:10000215-1799582400-1799586000@stpaulfairfield.org
SUMMARY:Sunday Worship Service
DESCRIPTION:
URL:https://stpaulfairfield.org/event/sunday-worship-service-18/2027-01-10/
LOCATION:Grace Episcopal Church\, 1405 Kentucky Street\, Fairfield\, CA\, 94533\, United States
CATEGORIES:Worship Service
END:VEVENT
BEGIN:VEVENT
DTSTART;TZID=America/Los_Angeles:20270117T120000
DTEND;TZID=America/Los_Angeles:20270117T130000
DTSTAMP:20260421T051912
CREATED:20190901T204840Z
LAST-MODIFIED:20231127T192010Z
UID:10000216-1800187200-1800190800@stpaulfairfield.org
SUMMARY:Sunday Worship Service
DESCRIPTION:
URL:https://stpaulfairfield.org/event/sunday-worship-service-18/2027-01-17/
LOCATION:Grace Episcopal Church\, 1405 Kentucky Street\, Fairfield\, CA\, 94533\, United States
CATEGORIES:Worship Service
END:VEVENT
BEGIN:VEVENT
DTSTART;TZID=America/Los_Angeles:20270124T120000
DTEND;TZID=America/Los_Angeles:20270124T130000
DTSTAMP:20260421T051912
CREATED:20190901T204840Z
LAST-MODIFIED:20231127T192010Z
UID:10000217-1800792000-1800795600@stpaulfairfield.org
SUMMARY:Sunday Worship Service
DESCRIPTION:
URL:https://stpaulfairfield.org/event/sunday-worship-service-18/2027-01-24/
LOCATION:Grace Episcopal Church\, 1405 Kentucky Street\, Fairfield\, CA\, 94533\, United States
CATEGORIES:Worship Service
END:VEVENT
BEGIN:VEVENT
DTSTART;TZID=America/Los_Angeles:20270131T120000
DTEND;TZID=America/Los_Angeles:20270131T130000
DTSTAMP:20260421T051912
CREATED:20190901T204840Z
LAST-MODIFIED:20231127T192010Z
UID:10000218-1801396800-1801400400@stpaulfairfield.org
SUMMARY:Sunday Worship Service
DESCRIPTION:
URL:https://stpaulfairfield.org/event/sunday-worship-service-18/2027-01-31/
LOCATION:Grace Episcopal Church\, 1405 Kentucky Street\, Fairfield\, CA\, 94533\, United States
CATEGORIES:Worship Service
END:VEVENT
BEGIN:VEVENT
DTSTART;TZID=America/Los_Angeles:20270207T120000
DTEND;TZID=America/Los_Angeles:20270207T130000
DTSTAMP:20260421T051912
CREATED:20190901T204840Z
LAST-MODIFIED:20231127T192010Z
UID:10000219-1802001600-1802005200@stpaulfairfield.org
SUMMARY:Sunday Worship Service
DESCRIPTION:
URL:https://stpaulfairfield.org/event/sunday-worship-service-18/2027-02-07/
LOCATION:Grace Episcopal Church\, 1405 Kentucky Street\, Fairfield\, CA\, 94533\, United States
CATEGORIES:Worship Service
END:VEVENT
END:VCALENDAR