BEGIN:VCALENDAR
VERSION:2.0
PRODID:-//St. Paul Baptist Church - Fairfield - ECPv6.15.20//NONSGML v1.0//EN
CALSCALE:GREGORIAN
METHOD:PUBLISH
X-ORIGINAL-URL:https://stpaulfairfield.org
X-WR-CALDESC:Events for St. Paul Baptist Church - Fairfield
REFRESH-INTERVAL;VALUE=DURATION:PT1H
X-Robots-Tag:noindex
X-PUBLISHED-TTL:PT1H
BEGIN:VTIMEZONE
TZID:America/Los_Angeles
BEGIN:DAYLIGHT
TZOFFSETFROM:-0800
TZOFFSETTO:-0700
TZNAME:PDT
DTSTART:20240310T100000
END:DAYLIGHT
BEGIN:STANDARD
TZOFFSETFROM:-0700
TZOFFSETTO:-0800
TZNAME:PST
DTSTART:20241103T090000
END:STANDARD
BEGIN:DAYLIGHT
TZOFFSETFROM:-0800
TZOFFSETTO:-0700
TZNAME:PDT
DTSTART:20250309T100000
END:DAYLIGHT
BEGIN:STANDARD
TZOFFSETFROM:-0700
TZOFFSETTO:-0800
TZNAME:PST
DTSTART:20251102T090000
END:STANDARD
BEGIN:DAYLIGHT
TZOFFSETFROM:-0800
TZOFFSETTO:-0700
TZNAME:PDT
DTSTART:20260308T100000
END:DAYLIGHT
BEGIN:STANDARD
TZOFFSETFROM:-0700
TZOFFSETTO:-0800
TZNAME:PST
DTSTART:20261101T090000
END:STANDARD
BEGIN:DAYLIGHT
TZOFFSETFROM:-0800
TZOFFSETTO:-0700
TZNAME:PDT
DTSTART:20270314T100000
END:DAYLIGHT
BEGIN:STANDARD
TZOFFSETFROM:-0700
TZOFFSETTO:-0800
TZNAME:PST
DTSTART:20271107T090000
END:STANDARD
END:VTIMEZONE
BEGIN:VEVENT
DTSTART;TZID=America/Los_Angeles:20260125T120000
DTEND;TZID=America/Los_Angeles:20260125T130000
DTSTAMP:20260421T084031
CREATED:20190901T204840Z
LAST-MODIFIED:20231127T192010Z
UID:10000165-1769342400-1769346000@stpaulfairfield.org
SUMMARY:Sunday Worship Service
DESCRIPTION:
URL:https://stpaulfairfield.org/event/sunday-worship-service-18/2026-01-25/
LOCATION:Grace Episcopal Church\, 1405 Kentucky Street\, Fairfield\, CA\, 94533\, United States
CATEGORIES:Worship Service
END:VEVENT
BEGIN:VEVENT
DTSTART;TZID=America/Los_Angeles:20260118T120000
DTEND;TZID=America/Los_Angeles:20260118T130000
DTSTAMP:20260421T084031
CREATED:20190901T204840Z
LAST-MODIFIED:20231127T192010Z
UID:10000164-1768737600-1768741200@stpaulfairfield.org
SUMMARY:Sunday Worship Service
DESCRIPTION:
URL:https://stpaulfairfield.org/event/sunday-worship-service-18/2026-01-18/
LOCATION:Grace Episcopal Church\, 1405 Kentucky Street\, Fairfield\, CA\, 94533\, United States
CATEGORIES:Worship Service
END:VEVENT
BEGIN:VEVENT
DTSTART;TZID=America/Los_Angeles:20260111T120000
DTEND;TZID=America/Los_Angeles:20260111T130000
DTSTAMP:20260421T084031
CREATED:20190901T204840Z
LAST-MODIFIED:20231127T192010Z
UID:10000163-1768132800-1768136400@stpaulfairfield.org
SUMMARY:Sunday Worship Service
DESCRIPTION:
URL:https://stpaulfairfield.org/event/sunday-worship-service-18/2026-01-11/
LOCATION:Grace Episcopal Church\, 1405 Kentucky Street\, Fairfield\, CA\, 94533\, United States
CATEGORIES:Worship Service
END:VEVENT
BEGIN:VEVENT
DTSTART;TZID=America/Los_Angeles:20260104T120000
DTEND;TZID=America/Los_Angeles:20260104T130000
DTSTAMP:20260421T084031
CREATED:20190901T204840Z
LAST-MODIFIED:20231127T192010Z
UID:10000162-1767528000-1767531600@stpaulfairfield.org
SUMMARY:Sunday Worship Service
DESCRIPTION:
URL:https://stpaulfairfield.org/event/sunday-worship-service-18/2026-01-04/
LOCATION:Grace Episcopal Church\, 1405 Kentucky Street\, Fairfield\, CA\, 94533\, United States
CATEGORIES:Worship Service
END:VEVENT
BEGIN:VEVENT
DTSTART;TZID=America/Los_Angeles:20251228T120000
DTEND;TZID=America/Los_Angeles:20251228T130000
DTSTAMP:20260421T084031
CREATED:20190901T204840Z
LAST-MODIFIED:20231127T192010Z
UID:10000161-1766923200-1766926800@stpaulfairfield.org
SUMMARY:Sunday Worship Service
DESCRIPTION:
URL:https://stpaulfairfield.org/event/sunday-worship-service-18/2025-12-28/
LOCATION:Grace Episcopal Church\, 1405 Kentucky Street\, Fairfield\, CA\, 94533\, United States
CATEGORIES:Worship Service
END:VEVENT
BEGIN:VEVENT
DTSTART;TZID=America/Los_Angeles:20251221T120000
DTEND;TZID=America/Los_Angeles:20251221T130000
DTSTAMP:20260421T084031
CREATED:20190901T204840Z
LAST-MODIFIED:20231127T192010Z
UID:10000160-1766318400-1766322000@stpaulfairfield.org
SUMMARY:Sunday Worship Service
DESCRIPTION:
URL:https://stpaulfairfield.org/event/sunday-worship-service-18/2025-12-21/
LOCATION:Grace Episcopal Church\, 1405 Kentucky Street\, Fairfield\, CA\, 94533\, United States
CATEGORIES:Worship Service
END:VEVENT
BEGIN:VEVENT
DTSTART;TZID=America/Los_Angeles:20251214T120000
DTEND;TZID=America/Los_Angeles:20251214T130000
DTSTAMP:20260421T084031
CREATED:20190901T204840Z
LAST-MODIFIED:20231127T192010Z
UID:10000159-1765713600-1765717200@stpaulfairfield.org
SUMMARY:Sunday Worship Service
DESCRIPTION:
URL:https://stpaulfairfield.org/event/sunday-worship-service-18/2025-12-14/
LOCATION:Grace Episcopal Church\, 1405 Kentucky Street\, Fairfield\, CA\, 94533\, United States
CATEGORIES:Worship Service
END:VEVENT
BEGIN:VEVENT
DTSTART;TZID=America/Los_Angeles:20251207T120000
DTEND;TZID=America/Los_Angeles:20251207T130000
DTSTAMP:20260421T084031
CREATED:20190901T204840Z
LAST-MODIFIED:20231127T192010Z
UID:10000158-1765108800-1765112400@stpaulfairfield.org
SUMMARY:Sunday Worship Service
DESCRIPTION:
URL:https://stpaulfairfield.org/event/sunday-worship-service-18/2025-12-07/
LOCATION:Grace Episcopal Church\, 1405 Kentucky Street\, Fairfield\, CA\, 94533\, United States
CATEGORIES:Worship Service
END:VEVENT
BEGIN:VEVENT
DTSTART;TZID=America/Los_Angeles:20251130T120000
DTEND;TZID=America/Los_Angeles:20251130T130000
DTSTAMP:20260421T084031
CREATED:20190901T204840Z
LAST-MODIFIED:20231127T192010Z
UID:10000157-1764504000-1764507600@stpaulfairfield.org
SUMMARY:Sunday Worship Service
DESCRIPTION:
URL:https://stpaulfairfield.org/event/sunday-worship-service-18/2025-11-30/
LOCATION:Grace Episcopal Church\, 1405 Kentucky Street\, Fairfield\, CA\, 94533\, United States
CATEGORIES:Worship Service
END:VEVENT
BEGIN:VEVENT
DTSTART;TZID=America/Los_Angeles:20251123T120000
DTEND;TZID=America/Los_Angeles:20251123T130000
DTSTAMP:20260421T084031
CREATED:20190901T204840Z
LAST-MODIFIED:20231127T192010Z
UID:10000156-1763899200-1763902800@stpaulfairfield.org
SUMMARY:Sunday Worship Service
DESCRIPTION:
URL:https://stpaulfairfield.org/event/sunday-worship-service-18/2025-11-23/
LOCATION:Grace Episcopal Church\, 1405 Kentucky Street\, Fairfield\, CA\, 94533\, United States
CATEGORIES:Worship Service
END:VEVENT
BEGIN:VEVENT
DTSTART;TZID=America/Los_Angeles:20251116T120000
DTEND;TZID=America/Los_Angeles:20251116T130000
DTSTAMP:20260421T084031
CREATED:20190901T204840Z
LAST-MODIFIED:20231127T192010Z
UID:10000155-1763294400-1763298000@stpaulfairfield.org
SUMMARY:Sunday Worship Service
DESCRIPTION:
URL:https://stpaulfairfield.org/event/sunday-worship-service-18/2025-11-16/
LOCATION:Grace Episcopal Church\, 1405 Kentucky Street\, Fairfield\, CA\, 94533\, United States
CATEGORIES:Worship Service
END:VEVENT
BEGIN:VEVENT
DTSTART;TZID=America/Los_Angeles:20251109T120000
DTEND;TZID=America/Los_Angeles:20251109T130000
DTSTAMP:20260421T084031
CREATED:20190901T204840Z
LAST-MODIFIED:20231127T192010Z
UID:10000154-1762689600-1762693200@stpaulfairfield.org
SUMMARY:Sunday Worship Service
DESCRIPTION:
URL:https://stpaulfairfield.org/event/sunday-worship-service-18/2025-11-09/
LOCATION:Grace Episcopal Church\, 1405 Kentucky Street\, Fairfield\, CA\, 94533\, United States
CATEGORIES:Worship Service
END:VEVENT
BEGIN:VEVENT
DTSTART;TZID=America/Los_Angeles:20251102T120000
DTEND;TZID=America/Los_Angeles:20251102T130000
DTSTAMP:20260421T084031
CREATED:20190901T204840Z
LAST-MODIFIED:20231127T192010Z
UID:10000153-1762084800-1762088400@stpaulfairfield.org
SUMMARY:Sunday Worship Service
DESCRIPTION:
URL:https://stpaulfairfield.org/event/sunday-worship-service-18/2025-11-02/
LOCATION:Grace Episcopal Church\, 1405 Kentucky Street\, Fairfield\, CA\, 94533\, United States
CATEGORIES:Worship Service
END:VEVENT
BEGIN:VEVENT
DTSTART;TZID=America/Los_Angeles:20251026T120000
DTEND;TZID=America/Los_Angeles:20251026T130000
DTSTAMP:20260421T084031
CREATED:20190901T204840Z
LAST-MODIFIED:20231127T192010Z
UID:10000152-1761480000-1761483600@stpaulfairfield.org
SUMMARY:Sunday Worship Service
DESCRIPTION:
URL:https://stpaulfairfield.org/event/sunday-worship-service-18/2025-10-26/
LOCATION:Grace Episcopal Church\, 1405 Kentucky Street\, Fairfield\, CA\, 94533\, United States
CATEGORIES:Worship Service
END:VEVENT
BEGIN:VEVENT
DTSTART;TZID=America/Los_Angeles:20251019T120000
DTEND;TZID=America/Los_Angeles:20251019T130000
DTSTAMP:20260421T084031
CREATED:20190901T204840Z
LAST-MODIFIED:20231127T192010Z
UID:10000151-1760875200-1760878800@stpaulfairfield.org
SUMMARY:Sunday Worship Service
DESCRIPTION:
URL:https://stpaulfairfield.org/event/sunday-worship-service-18/2025-10-19/
LOCATION:Grace Episcopal Church\, 1405 Kentucky Street\, Fairfield\, CA\, 94533\, United States
CATEGORIES:Worship Service
END:VEVENT
BEGIN:VEVENT
DTSTART;TZID=America/Los_Angeles:20251012T120000
DTEND;TZID=America/Los_Angeles:20251012T130000
DTSTAMP:20260421T084031
CREATED:20190901T204840Z
LAST-MODIFIED:20231127T192010Z
UID:10000150-1760270400-1760274000@stpaulfairfield.org
SUMMARY:Sunday Worship Service
DESCRIPTION:
URL:https://stpaulfairfield.org/event/sunday-worship-service-18/2025-10-12/
LOCATION:Grace Episcopal Church\, 1405 Kentucky Street\, Fairfield\, CA\, 94533\, United States
CATEGORIES:Worship Service
END:VEVENT
BEGIN:VEVENT
DTSTART;TZID=America/Los_Angeles:20251005T120000
DTEND;TZID=America/Los_Angeles:20251005T130000
DTSTAMP:20260421T084031
CREATED:20190901T204840Z
LAST-MODIFIED:20231127T192010Z
UID:10000149-1759665600-1759669200@stpaulfairfield.org
SUMMARY:Sunday Worship Service
DESCRIPTION:
URL:https://stpaulfairfield.org/event/sunday-worship-service-18/2025-10-05/
LOCATION:Grace Episcopal Church\, 1405 Kentucky Street\, Fairfield\, CA\, 94533\, United States
CATEGORIES:Worship Service
END:VEVENT
BEGIN:VEVENT
DTSTART;TZID=America/Los_Angeles:20250928T120000
DTEND;TZID=America/Los_Angeles:20250928T130000
DTSTAMP:20260421T084031
CREATED:20190901T204840Z
LAST-MODIFIED:20231127T192010Z
UID:10000148-1759060800-1759064400@stpaulfairfield.org
SUMMARY:Sunday Worship Service
DESCRIPTION:
URL:https://stpaulfairfield.org/event/sunday-worship-service-18/2025-09-28/
LOCATION:Grace Episcopal Church\, 1405 Kentucky Street\, Fairfield\, CA\, 94533\, United States
CATEGORIES:Worship Service
END:VEVENT
BEGIN:VEVENT
DTSTART;TZID=America/Los_Angeles:20250921T120000
DTEND;TZID=America/Los_Angeles:20250921T130000
DTSTAMP:20260421T084031
CREATED:20190901T204840Z
LAST-MODIFIED:20231127T192010Z
UID:10000147-1758456000-1758459600@stpaulfairfield.org
SUMMARY:Sunday Worship Service
DESCRIPTION:
URL:https://stpaulfairfield.org/event/sunday-worship-service-18/2025-09-21/
LOCATION:Grace Episcopal Church\, 1405 Kentucky Street\, Fairfield\, CA\, 94533\, United States
CATEGORIES:Worship Service
END:VEVENT
BEGIN:VEVENT
DTSTART;TZID=America/Los_Angeles:20250914T120000
DTEND;TZID=America/Los_Angeles:20250914T130000
DTSTAMP:20260421T084031
CREATED:20190901T204840Z
LAST-MODIFIED:20231127T192010Z
UID:10000146-1757851200-1757854800@stpaulfairfield.org
SUMMARY:Sunday Worship Service
DESCRIPTION:
URL:https://stpaulfairfield.org/event/sunday-worship-service-18/2025-09-14/
LOCATION:Grace Episcopal Church\, 1405 Kentucky Street\, Fairfield\, CA\, 94533\, United States
CATEGORIES:Worship Service
END:VEVENT
BEGIN:VEVENT
DTSTART;TZID=America/Los_Angeles:20250907T120000
DTEND;TZID=America/Los_Angeles:20250907T130000
DTSTAMP:20260421T084031
CREATED:20190901T204840Z
LAST-MODIFIED:20231127T192010Z
UID:10000145-1757246400-1757250000@stpaulfairfield.org
SUMMARY:Sunday Worship Service
DESCRIPTION:
URL:https://stpaulfairfield.org/event/sunday-worship-service-18/2025-09-07/
LOCATION:Grace Episcopal Church\, 1405 Kentucky Street\, Fairfield\, CA\, 94533\, United States
CATEGORIES:Worship Service
END:VEVENT
BEGIN:VEVENT
DTSTART;TZID=America/Los_Angeles:20250831T120000
DTEND;TZID=America/Los_Angeles:20250831T130000
DTSTAMP:20260421T084031
CREATED:20190901T204840Z
LAST-MODIFIED:20231127T192010Z
UID:10000144-1756641600-1756645200@stpaulfairfield.org
SUMMARY:Sunday Worship Service
DESCRIPTION:
URL:https://stpaulfairfield.org/event/sunday-worship-service-18/2025-08-31/
LOCATION:Grace Episcopal Church\, 1405 Kentucky Street\, Fairfield\, CA\, 94533\, United States
CATEGORIES:Worship Service
END:VEVENT
BEGIN:VEVENT
DTSTART;TZID=America/Los_Angeles:20250824T120000
DTEND;TZID=America/Los_Angeles:20250824T130000
DTSTAMP:20260421T084031
CREATED:20190901T204840Z
LAST-MODIFIED:20231127T192010Z
UID:10000143-1756036800-1756040400@stpaulfairfield.org
SUMMARY:Sunday Worship Service
DESCRIPTION:
URL:https://stpaulfairfield.org/event/sunday-worship-service-18/2025-08-24/
LOCATION:Grace Episcopal Church\, 1405 Kentucky Street\, Fairfield\, CA\, 94533\, United States
CATEGORIES:Worship Service
END:VEVENT
BEGIN:VEVENT
DTSTART;TZID=America/Los_Angeles:20250817T120000
DTEND;TZID=America/Los_Angeles:20250817T130000
DTSTAMP:20260421T084031
CREATED:20190901T204840Z
LAST-MODIFIED:20231127T192010Z
UID:10000142-1755432000-1755435600@stpaulfairfield.org
SUMMARY:Sunday Worship Service
DESCRIPTION:
URL:https://stpaulfairfield.org/event/sunday-worship-service-18/2025-08-17/
LOCATION:Grace Episcopal Church\, 1405 Kentucky Street\, Fairfield\, CA\, 94533\, United States
CATEGORIES:Worship Service
END:VEVENT
BEGIN:VEVENT
DTSTART;TZID=America/Los_Angeles:20250810T120000
DTEND;TZID=America/Los_Angeles:20250810T130000
DTSTAMP:20260421T084031
CREATED:20190901T204840Z
LAST-MODIFIED:20231127T192010Z
UID:10000141-1754827200-1754830800@stpaulfairfield.org
SUMMARY:Sunday Worship Service
DESCRIPTION:
URL:https://stpaulfairfield.org/event/sunday-worship-service-18/2025-08-10/
LOCATION:Grace Episcopal Church\, 1405 Kentucky Street\, Fairfield\, CA\, 94533\, United States
CATEGORIES:Worship Service
END:VEVENT
BEGIN:VEVENT
DTSTART;TZID=America/Los_Angeles:20250803T120000
DTEND;TZID=America/Los_Angeles:20250803T130000
DTSTAMP:20260421T084031
CREATED:20190901T204840Z
LAST-MODIFIED:20231127T192010Z
UID:10000140-1754222400-1754226000@stpaulfairfield.org
SUMMARY:Sunday Worship Service
DESCRIPTION:
URL:https://stpaulfairfield.org/event/sunday-worship-service-18/2025-08-03/
LOCATION:Grace Episcopal Church\, 1405 Kentucky Street\, Fairfield\, CA\, 94533\, United States
CATEGORIES:Worship Service
END:VEVENT
BEGIN:VEVENT
DTSTART;TZID=America/Los_Angeles:20250727T120000
DTEND;TZID=America/Los_Angeles:20250727T130000
DTSTAMP:20260421T084031
CREATED:20190901T204840Z
LAST-MODIFIED:20231127T192010Z
UID:10000139-1753617600-1753621200@stpaulfairfield.org
SUMMARY:Sunday Worship Service
DESCRIPTION:
URL:https://stpaulfairfield.org/event/sunday-worship-service-18/2025-07-27/
LOCATION:Grace Episcopal Church\, 1405 Kentucky Street\, Fairfield\, CA\, 94533\, United States
CATEGORIES:Worship Service
END:VEVENT
BEGIN:VEVENT
DTSTART;TZID=America/Los_Angeles:20250720T120000
DTEND;TZID=America/Los_Angeles:20250720T130000
DTSTAMP:20260421T084031
CREATED:20190901T204840Z
LAST-MODIFIED:20231127T192010Z
UID:10000138-1753012800-1753016400@stpaulfairfield.org
SUMMARY:Sunday Worship Service
DESCRIPTION:
URL:https://stpaulfairfield.org/event/sunday-worship-service-18/2025-07-20/
LOCATION:Grace Episcopal Church\, 1405 Kentucky Street\, Fairfield\, CA\, 94533\, United States
CATEGORIES:Worship Service
END:VEVENT
BEGIN:VEVENT
DTSTART;TZID=America/Los_Angeles:20250713T120000
DTEND;TZID=America/Los_Angeles:20250713T130000
DTSTAMP:20260421T084031
CREATED:20190901T204840Z
LAST-MODIFIED:20231127T192010Z
UID:10000137-1752408000-1752411600@stpaulfairfield.org
SUMMARY:Sunday Worship Service
DESCRIPTION:
URL:https://stpaulfairfield.org/event/sunday-worship-service-18/2025-07-13/
LOCATION:Grace Episcopal Church\, 1405 Kentucky Street\, Fairfield\, CA\, 94533\, United States
CATEGORIES:Worship Service
END:VEVENT
BEGIN:VEVENT
DTSTART;TZID=America/Los_Angeles:20250706T120000
DTEND;TZID=America/Los_Angeles:20250706T130000
DTSTAMP:20260421T084031
CREATED:20190901T204840Z
LAST-MODIFIED:20231127T192010Z
UID:10000136-1751803200-1751806800@stpaulfairfield.org
SUMMARY:Sunday Worship Service
DESCRIPTION:
URL:https://stpaulfairfield.org/event/sunday-worship-service-18/2025-07-06/
LOCATION:Grace Episcopal Church\, 1405 Kentucky Street\, Fairfield\, CA\, 94533\, United States
CATEGORIES:Worship Service
END:VEVENT
END:VCALENDAR