BEGIN:VCALENDAR
VERSION:2.0
PRODID:-//St. Paul Baptist Church - Fairfield - ECPv6.15.20//NONSGML v1.0//EN
CALSCALE:GREGORIAN
METHOD:PUBLISH
X-WR-CALNAME:St. Paul Baptist Church - Fairfield
X-ORIGINAL-URL:https://stpaulfairfield.org
X-WR-CALDESC:Events for St. Paul Baptist Church - Fairfield
REFRESH-INTERVAL;VALUE=DURATION:PT1H
X-Robots-Tag:noindex
X-PUBLISHED-TTL:PT1H
BEGIN:VTIMEZONE
TZID:America/Los_Angeles
BEGIN:DAYLIGHT
TZOFFSETFROM:-0800
TZOFFSETTO:-0700
TZNAME:PDT
DTSTART:20270314T100000
END:DAYLIGHT
BEGIN:STANDARD
TZOFFSETFROM:-0700
TZOFFSETTO:-0800
TZNAME:PST
DTSTART:20271107T090000
END:STANDARD
BEGIN:DAYLIGHT
TZOFFSETFROM:-0800
TZOFFSETTO:-0700
TZNAME:PDT
DTSTART:20280312T100000
END:DAYLIGHT
BEGIN:STANDARD
TZOFFSETFROM:-0700
TZOFFSETTO:-0800
TZNAME:PST
DTSTART:20281105T090000
END:STANDARD
BEGIN:DAYLIGHT
TZOFFSETFROM:-0800
TZOFFSETTO:-0700
TZNAME:PDT
DTSTART:20290311T100000
END:DAYLIGHT
BEGIN:STANDARD
TZOFFSETFROM:-0700
TZOFFSETTO:-0800
TZNAME:PST
DTSTART:20291104T090000
END:STANDARD
END:VTIMEZONE
BEGIN:VEVENT
DTSTART;TZID=America/Los_Angeles:20280813T120000
DTEND;TZID=America/Los_Angeles:20280813T130000
DTSTAMP:20260421T204645
CREATED:20190901T204840Z
LAST-MODIFIED:20231127T192010Z
UID:10000298-1849780800-1849784400@stpaulfairfield.org
SUMMARY:Sunday Worship Service
DESCRIPTION:
URL:https://stpaulfairfield.org/event/sunday-worship-service-18/2028-08-13/
LOCATION:Grace Episcopal Church\, 1405 Kentucky Street\, Fairfield\, CA\, 94533\, United States
CATEGORIES:Worship Service
END:VEVENT
BEGIN:VEVENT
DTSTART;TZID=America/Los_Angeles:20280820T120000
DTEND;TZID=America/Los_Angeles:20280820T130000
DTSTAMP:20260421T204645
CREATED:20190901T204840Z
LAST-MODIFIED:20231127T192010Z
UID:10000299-1850385600-1850389200@stpaulfairfield.org
SUMMARY:Sunday Worship Service
DESCRIPTION:
URL:https://stpaulfairfield.org/event/sunday-worship-service-18/2028-08-20/
LOCATION:Grace Episcopal Church\, 1405 Kentucky Street\, Fairfield\, CA\, 94533\, United States
CATEGORIES:Worship Service
END:VEVENT
BEGIN:VEVENT
DTSTART;TZID=America/Los_Angeles:20280827T120000
DTEND;TZID=America/Los_Angeles:20280827T130000
DTSTAMP:20260421T204645
CREATED:20190901T204840Z
LAST-MODIFIED:20231127T192010Z
UID:10000300-1850990400-1850994000@stpaulfairfield.org
SUMMARY:Sunday Worship Service
DESCRIPTION:
URL:https://stpaulfairfield.org/event/sunday-worship-service-18/2028-08-27/
LOCATION:Grace Episcopal Church\, 1405 Kentucky Street\, Fairfield\, CA\, 94533\, United States
CATEGORIES:Worship Service
END:VEVENT
BEGIN:VEVENT
DTSTART;TZID=America/Los_Angeles:20280903T120000
DTEND;TZID=America/Los_Angeles:20280903T130000
DTSTAMP:20260421T204645
CREATED:20190901T204840Z
LAST-MODIFIED:20231127T192010Z
UID:10000301-1851595200-1851598800@stpaulfairfield.org
SUMMARY:Sunday Worship Service
DESCRIPTION:
URL:https://stpaulfairfield.org/event/sunday-worship-service-18/2028-09-03/
LOCATION:Grace Episcopal Church\, 1405 Kentucky Street\, Fairfield\, CA\, 94533\, United States
CATEGORIES:Worship Service
END:VEVENT
BEGIN:VEVENT
DTSTART;TZID=America/Los_Angeles:20280910T120000
DTEND;TZID=America/Los_Angeles:20280910T130000
DTSTAMP:20260421T204645
CREATED:20190901T204840Z
LAST-MODIFIED:20231127T192010Z
UID:10000302-1852200000-1852203600@stpaulfairfield.org
SUMMARY:Sunday Worship Service
DESCRIPTION:
URL:https://stpaulfairfield.org/event/sunday-worship-service-18/2028-09-10/
LOCATION:Grace Episcopal Church\, 1405 Kentucky Street\, Fairfield\, CA\, 94533\, United States
CATEGORIES:Worship Service
END:VEVENT
BEGIN:VEVENT
DTSTART;TZID=America/Los_Angeles:20280917T120000
DTEND;TZID=America/Los_Angeles:20280917T130000
DTSTAMP:20260421T204645
CREATED:20190901T204840Z
LAST-MODIFIED:20231127T192010Z
UID:10000303-1852804800-1852808400@stpaulfairfield.org
SUMMARY:Sunday Worship Service
DESCRIPTION:
URL:https://stpaulfairfield.org/event/sunday-worship-service-18/2028-09-17/
LOCATION:Grace Episcopal Church\, 1405 Kentucky Street\, Fairfield\, CA\, 94533\, United States
CATEGORIES:Worship Service
END:VEVENT
BEGIN:VEVENT
DTSTART;TZID=America/Los_Angeles:20280924T120000
DTEND;TZID=America/Los_Angeles:20280924T130000
DTSTAMP:20260421T204645
CREATED:20190901T204840Z
LAST-MODIFIED:20231127T192010Z
UID:10000304-1853409600-1853413200@stpaulfairfield.org
SUMMARY:Sunday Worship Service
DESCRIPTION:
URL:https://stpaulfairfield.org/event/sunday-worship-service-18/2028-09-24/
LOCATION:Grace Episcopal Church\, 1405 Kentucky Street\, Fairfield\, CA\, 94533\, United States
CATEGORIES:Worship Service
END:VEVENT
BEGIN:VEVENT
DTSTART;TZID=America/Los_Angeles:20281001T120000
DTEND;TZID=America/Los_Angeles:20281001T130000
DTSTAMP:20260421T204645
CREATED:20190901T204840Z
LAST-MODIFIED:20231127T192010Z
UID:10000305-1854014400-1854018000@stpaulfairfield.org
SUMMARY:Sunday Worship Service
DESCRIPTION:
URL:https://stpaulfairfield.org/event/sunday-worship-service-18/2028-10-01/
LOCATION:Grace Episcopal Church\, 1405 Kentucky Street\, Fairfield\, CA\, 94533\, United States
CATEGORIES:Worship Service
END:VEVENT
BEGIN:VEVENT
DTSTART;TZID=America/Los_Angeles:20281008T120000
DTEND;TZID=America/Los_Angeles:20281008T130000
DTSTAMP:20260421T204645
CREATED:20190901T204840Z
LAST-MODIFIED:20231127T192010Z
UID:10000306-1854619200-1854622800@stpaulfairfield.org
SUMMARY:Sunday Worship Service
DESCRIPTION:
URL:https://stpaulfairfield.org/event/sunday-worship-service-18/2028-10-08/
LOCATION:Grace Episcopal Church\, 1405 Kentucky Street\, Fairfield\, CA\, 94533\, United States
CATEGORIES:Worship Service
END:VEVENT
BEGIN:VEVENT
DTSTART;TZID=America/Los_Angeles:20281015T120000
DTEND;TZID=America/Los_Angeles:20281015T130000
DTSTAMP:20260421T204645
CREATED:20190901T204840Z
LAST-MODIFIED:20231127T192010Z
UID:10000307-1855224000-1855227600@stpaulfairfield.org
SUMMARY:Sunday Worship Service
DESCRIPTION:
URL:https://stpaulfairfield.org/event/sunday-worship-service-18/2028-10-15/
LOCATION:Grace Episcopal Church\, 1405 Kentucky Street\, Fairfield\, CA\, 94533\, United States
CATEGORIES:Worship Service
END:VEVENT
BEGIN:VEVENT
DTSTART;TZID=America/Los_Angeles:20281022T120000
DTEND;TZID=America/Los_Angeles:20281022T130000
DTSTAMP:20260421T204645
CREATED:20190901T204840Z
LAST-MODIFIED:20231127T192010Z
UID:10000308-1855828800-1855832400@stpaulfairfield.org
SUMMARY:Sunday Worship Service
DESCRIPTION:
URL:https://stpaulfairfield.org/event/sunday-worship-service-18/2028-10-22/
LOCATION:Grace Episcopal Church\, 1405 Kentucky Street\, Fairfield\, CA\, 94533\, United States
CATEGORIES:Worship Service
END:VEVENT
BEGIN:VEVENT
DTSTART;TZID=America/Los_Angeles:20281029T120000
DTEND;TZID=America/Los_Angeles:20281029T130000
DTSTAMP:20260421T204645
CREATED:20190901T204840Z
LAST-MODIFIED:20231127T192010Z
UID:10000309-1856433600-1856437200@stpaulfairfield.org
SUMMARY:Sunday Worship Service
DESCRIPTION:
URL:https://stpaulfairfield.org/event/sunday-worship-service-18/2028-10-29/
LOCATION:Grace Episcopal Church\, 1405 Kentucky Street\, Fairfield\, CA\, 94533\, United States
CATEGORIES:Worship Service
END:VEVENT
BEGIN:VEVENT
DTSTART;TZID=America/Los_Angeles:20281105T120000
DTEND;TZID=America/Los_Angeles:20281105T130000
DTSTAMP:20260421T204645
CREATED:20190901T204840Z
LAST-MODIFIED:20231127T192010Z
UID:10000310-1857038400-1857042000@stpaulfairfield.org
SUMMARY:Sunday Worship Service
DESCRIPTION:
URL:https://stpaulfairfield.org/event/sunday-worship-service-18/2028-11-05/
LOCATION:Grace Episcopal Church\, 1405 Kentucky Street\, Fairfield\, CA\, 94533\, United States
CATEGORIES:Worship Service
END:VEVENT
BEGIN:VEVENT
DTSTART;TZID=America/Los_Angeles:20281112T120000
DTEND;TZID=America/Los_Angeles:20281112T130000
DTSTAMP:20260421T204645
CREATED:20190901T204840Z
LAST-MODIFIED:20231127T192010Z
UID:10000311-1857643200-1857646800@stpaulfairfield.org
SUMMARY:Sunday Worship Service
DESCRIPTION:
URL:https://stpaulfairfield.org/event/sunday-worship-service-18/2028-11-12/
LOCATION:Grace Episcopal Church\, 1405 Kentucky Street\, Fairfield\, CA\, 94533\, United States
CATEGORIES:Worship Service
END:VEVENT
BEGIN:VEVENT
DTSTART;TZID=America/Los_Angeles:20281119T120000
DTEND;TZID=America/Los_Angeles:20281119T130000
DTSTAMP:20260421T204645
CREATED:20190901T204840Z
LAST-MODIFIED:20231127T192010Z
UID:10000312-1858248000-1858251600@stpaulfairfield.org
SUMMARY:Sunday Worship Service
DESCRIPTION:
URL:https://stpaulfairfield.org/event/sunday-worship-service-18/2028-11-19/
LOCATION:Grace Episcopal Church\, 1405 Kentucky Street\, Fairfield\, CA\, 94533\, United States
CATEGORIES:Worship Service
END:VEVENT
BEGIN:VEVENT
DTSTART;TZID=America/Los_Angeles:20281126T120000
DTEND;TZID=America/Los_Angeles:20281126T130000
DTSTAMP:20260421T204645
CREATED:20190901T204840Z
LAST-MODIFIED:20231127T192010Z
UID:10000313-1858852800-1858856400@stpaulfairfield.org
SUMMARY:Sunday Worship Service
DESCRIPTION:
URL:https://stpaulfairfield.org/event/sunday-worship-service-18/2028-11-26/
LOCATION:Grace Episcopal Church\, 1405 Kentucky Street\, Fairfield\, CA\, 94533\, United States
CATEGORIES:Worship Service
END:VEVENT
END:VCALENDAR