BEGIN:VCALENDAR
VERSION:2.0
PRODID:-//St. Paul Baptist Church - Fairfield - ECPv6.15.20//NONSGML v1.0//EN
CALSCALE:GREGORIAN
METHOD:PUBLISH
X-WR-CALNAME:St. Paul Baptist Church - Fairfield
X-ORIGINAL-URL:https://stpaulfairfield.org
X-WR-CALDESC:Events for St. Paul Baptist Church - Fairfield
REFRESH-INTERVAL;VALUE=DURATION:PT1H
X-Robots-Tag:noindex
X-PUBLISHED-TTL:PT1H
BEGIN:VTIMEZONE
TZID:America/Los_Angeles
BEGIN:DAYLIGHT
TZOFFSETFROM:-0800
TZOFFSETTO:-0700
TZNAME:PDT
DTSTART:20260308T100000
END:DAYLIGHT
BEGIN:STANDARD
TZOFFSETFROM:-0700
TZOFFSETTO:-0800
TZNAME:PST
DTSTART:20261101T090000
END:STANDARD
BEGIN:DAYLIGHT
TZOFFSETFROM:-0800
TZOFFSETTO:-0700
TZNAME:PDT
DTSTART:20270314T100000
END:DAYLIGHT
BEGIN:STANDARD
TZOFFSETFROM:-0700
TZOFFSETTO:-0800
TZNAME:PST
DTSTART:20271107T090000
END:STANDARD
BEGIN:DAYLIGHT
TZOFFSETFROM:-0800
TZOFFSETTO:-0700
TZNAME:PDT
DTSTART:20280312T100000
END:DAYLIGHT
BEGIN:STANDARD
TZOFFSETFROM:-0700
TZOFFSETTO:-0800
TZNAME:PST
DTSTART:20281105T090000
END:STANDARD
BEGIN:DAYLIGHT
TZOFFSETFROM:-0800
TZOFFSETTO:-0700
TZNAME:PDT
DTSTART:20290311T100000
END:DAYLIGHT
BEGIN:STANDARD
TZOFFSETFROM:-0700
TZOFFSETTO:-0800
TZNAME:PST
DTSTART:20291104T090000
END:STANDARD
END:VTIMEZONE
BEGIN:VEVENT
DTSTART;TZID=America/Los_Angeles:20271205T110000
DTEND;TZID=America/Los_Angeles:20271205T114500
DTSTAMP:20260421T201158
CREATED:20190901T202854Z
LAST-MODIFIED:20231127T192302Z
UID:10000523-1828004400-1828007100@stpaulfairfield.org
SUMMARY:Sunday School
DESCRIPTION:
URL:https://stpaulfairfield.org/event/sunday-school-17/2027-12-05/
LOCATION:Grace Episcopal Church\, 1405 Kentucky Street\, Fairfield\, CA\, 94533\, United States
CATEGORIES:Sunday School
END:VEVENT
BEGIN:VEVENT
DTSTART;TZID=America/Los_Angeles:20271212T110000
DTEND;TZID=America/Los_Angeles:20271212T114500
DTSTAMP:20260421T201158
CREATED:20190901T202854Z
LAST-MODIFIED:20231127T192302Z
UID:10000524-1828609200-1828611900@stpaulfairfield.org
SUMMARY:Sunday School
DESCRIPTION:
URL:https://stpaulfairfield.org/event/sunday-school-17/2027-12-12/
LOCATION:Grace Episcopal Church\, 1405 Kentucky Street\, Fairfield\, CA\, 94533\, United States
CATEGORIES:Sunday School
END:VEVENT
BEGIN:VEVENT
DTSTART;TZID=America/Los_Angeles:20271219T110000
DTEND;TZID=America/Los_Angeles:20271219T114500
DTSTAMP:20260421T201158
CREATED:20190901T202854Z
LAST-MODIFIED:20231127T192302Z
UID:10000525-1829214000-1829216700@stpaulfairfield.org
SUMMARY:Sunday School
DESCRIPTION:
URL:https://stpaulfairfield.org/event/sunday-school-17/2027-12-19/
LOCATION:Grace Episcopal Church\, 1405 Kentucky Street\, Fairfield\, CA\, 94533\, United States
CATEGORIES:Sunday School
END:VEVENT
BEGIN:VEVENT
DTSTART;TZID=America/Los_Angeles:20271226T110000
DTEND;TZID=America/Los_Angeles:20271226T114500
DTSTAMP:20260421T201158
CREATED:20190901T202854Z
LAST-MODIFIED:20231127T192302Z
UID:10000526-1829818800-1829821500@stpaulfairfield.org
SUMMARY:Sunday School
DESCRIPTION:
URL:https://stpaulfairfield.org/event/sunday-school-17/2027-12-26/
LOCATION:Grace Episcopal Church\, 1405 Kentucky Street\, Fairfield\, CA\, 94533\, United States
CATEGORIES:Sunday School
END:VEVENT
BEGIN:VEVENT
DTSTART;TZID=America/Los_Angeles:20280102T110000
DTEND;TZID=America/Los_Angeles:20280102T114500
DTSTAMP:20260421T201158
CREATED:20190901T202854Z
LAST-MODIFIED:20231127T192302Z
UID:10000527-1830423600-1830426300@stpaulfairfield.org
SUMMARY:Sunday School
DESCRIPTION:
URL:https://stpaulfairfield.org/event/sunday-school-17/2028-01-02/
LOCATION:Grace Episcopal Church\, 1405 Kentucky Street\, Fairfield\, CA\, 94533\, United States
CATEGORIES:Sunday School
END:VEVENT
BEGIN:VEVENT
DTSTART;TZID=America/Los_Angeles:20280109T110000
DTEND;TZID=America/Los_Angeles:20280109T114500
DTSTAMP:20260421T201158
CREATED:20190901T202854Z
LAST-MODIFIED:20231127T192302Z
UID:10000528-1831028400-1831031100@stpaulfairfield.org
SUMMARY:Sunday School
DESCRIPTION:
URL:https://stpaulfairfield.org/event/sunday-school-17/2028-01-09/
LOCATION:Grace Episcopal Church\, 1405 Kentucky Street\, Fairfield\, CA\, 94533\, United States
CATEGORIES:Sunday School
END:VEVENT
BEGIN:VEVENT
DTSTART;TZID=America/Los_Angeles:20280116T110000
DTEND;TZID=America/Los_Angeles:20280116T114500
DTSTAMP:20260421T201158
CREATED:20190901T202854Z
LAST-MODIFIED:20231127T192302Z
UID:10000529-1831633200-1831635900@stpaulfairfield.org
SUMMARY:Sunday School
DESCRIPTION:
URL:https://stpaulfairfield.org/event/sunday-school-17/2028-01-16/
LOCATION:Grace Episcopal Church\, 1405 Kentucky Street\, Fairfield\, CA\, 94533\, United States
CATEGORIES:Sunday School
END:VEVENT
BEGIN:VEVENT
DTSTART;TZID=America/Los_Angeles:20280123T110000
DTEND;TZID=America/Los_Angeles:20280123T114500
DTSTAMP:20260421T201158
CREATED:20190901T202854Z
LAST-MODIFIED:20231127T192302Z
UID:10000530-1832238000-1832240700@stpaulfairfield.org
SUMMARY:Sunday School
DESCRIPTION:
URL:https://stpaulfairfield.org/event/sunday-school-17/2028-01-23/
LOCATION:Grace Episcopal Church\, 1405 Kentucky Street\, Fairfield\, CA\, 94533\, United States
CATEGORIES:Sunday School
END:VEVENT
BEGIN:VEVENT
DTSTART;TZID=America/Los_Angeles:20280130T110000
DTEND;TZID=America/Los_Angeles:20280130T114500
DTSTAMP:20260421T201158
CREATED:20190901T202854Z
LAST-MODIFIED:20231127T192302Z
UID:10000531-1832842800-1832845500@stpaulfairfield.org
SUMMARY:Sunday School
DESCRIPTION:
URL:https://stpaulfairfield.org/event/sunday-school-17/2028-01-30/
LOCATION:Grace Episcopal Church\, 1405 Kentucky Street\, Fairfield\, CA\, 94533\, United States
CATEGORIES:Sunday School
END:VEVENT
BEGIN:VEVENT
DTSTART;TZID=America/Los_Angeles:20280206T110000
DTEND;TZID=America/Los_Angeles:20280206T114500
DTSTAMP:20260421T201158
CREATED:20190901T202854Z
LAST-MODIFIED:20231127T192302Z
UID:10000532-1833447600-1833450300@stpaulfairfield.org
SUMMARY:Sunday School
DESCRIPTION:
URL:https://stpaulfairfield.org/event/sunday-school-17/2028-02-06/
LOCATION:Grace Episcopal Church\, 1405 Kentucky Street\, Fairfield\, CA\, 94533\, United States
CATEGORIES:Sunday School
END:VEVENT
BEGIN:VEVENT
DTSTART;TZID=America/Los_Angeles:20280213T110000
DTEND;TZID=America/Los_Angeles:20280213T114500
DTSTAMP:20260421T201158
CREATED:20190901T202854Z
LAST-MODIFIED:20231127T192302Z
UID:10000533-1834052400-1834055100@stpaulfairfield.org
SUMMARY:Sunday School
DESCRIPTION:
URL:https://stpaulfairfield.org/event/sunday-school-17/2028-02-13/
LOCATION:Grace Episcopal Church\, 1405 Kentucky Street\, Fairfield\, CA\, 94533\, United States
CATEGORIES:Sunday School
END:VEVENT
BEGIN:VEVENT
DTSTART;TZID=America/Los_Angeles:20280220T110000
DTEND;TZID=America/Los_Angeles:20280220T114500
DTSTAMP:20260421T201159
CREATED:20190901T202854Z
LAST-MODIFIED:20231127T192302Z
UID:10000534-1834657200-1834659900@stpaulfairfield.org
SUMMARY:Sunday School
DESCRIPTION:
URL:https://stpaulfairfield.org/event/sunday-school-17/2028-02-20/
LOCATION:Grace Episcopal Church\, 1405 Kentucky Street\, Fairfield\, CA\, 94533\, United States
CATEGORIES:Sunday School
END:VEVENT
BEGIN:VEVENT
DTSTART;TZID=America/Los_Angeles:20280227T110000
DTEND;TZID=America/Los_Angeles:20280227T114500
DTSTAMP:20260421T201159
CREATED:20190901T202854Z
LAST-MODIFIED:20231127T192302Z
UID:10000535-1835262000-1835264700@stpaulfairfield.org
SUMMARY:Sunday School
DESCRIPTION:
URL:https://stpaulfairfield.org/event/sunday-school-17/2028-02-27/
LOCATION:Grace Episcopal Church\, 1405 Kentucky Street\, Fairfield\, CA\, 94533\, United States
CATEGORIES:Sunday School
END:VEVENT
BEGIN:VEVENT
DTSTART;TZID=America/Los_Angeles:20280305T110000
DTEND;TZID=America/Los_Angeles:20280305T114500
DTSTAMP:20260421T201159
CREATED:20190901T202854Z
LAST-MODIFIED:20231127T192302Z
UID:10000536-1835866800-1835869500@stpaulfairfield.org
SUMMARY:Sunday School
DESCRIPTION:
URL:https://stpaulfairfield.org/event/sunday-school-17/2028-03-05/
LOCATION:Grace Episcopal Church\, 1405 Kentucky Street\, Fairfield\, CA\, 94533\, United States
CATEGORIES:Sunday School
END:VEVENT
BEGIN:VEVENT
DTSTART;TZID=America/Los_Angeles:20280312T110000
DTEND;TZID=America/Los_Angeles:20280312T114500
DTSTAMP:20260421T201159
CREATED:20190901T202854Z
LAST-MODIFIED:20231127T192302Z
UID:10000537-1836471600-1836474300@stpaulfairfield.org
SUMMARY:Sunday School
DESCRIPTION:
URL:https://stpaulfairfield.org/event/sunday-school-17/2028-03-12/
LOCATION:Grace Episcopal Church\, 1405 Kentucky Street\, Fairfield\, CA\, 94533\, United States
CATEGORIES:Sunday School
END:VEVENT
BEGIN:VEVENT
DTSTART;TZID=America/Los_Angeles:20280319T110000
DTEND;TZID=America/Los_Angeles:20280319T114500
DTSTAMP:20260421T201159
CREATED:20190901T202854Z
LAST-MODIFIED:20231127T192302Z
UID:10000538-1837076400-1837079100@stpaulfairfield.org
SUMMARY:Sunday School
DESCRIPTION:
URL:https://stpaulfairfield.org/event/sunday-school-17/2028-03-19/
LOCATION:Grace Episcopal Church\, 1405 Kentucky Street\, Fairfield\, CA\, 94533\, United States
CATEGORIES:Sunday School
END:VEVENT
BEGIN:VEVENT
DTSTART;TZID=America/Los_Angeles:20280326T110000
DTEND;TZID=America/Los_Angeles:20280326T114500
DTSTAMP:20260421T201159
CREATED:20190901T202854Z
LAST-MODIFIED:20231127T192302Z
UID:10000539-1837681200-1837683900@stpaulfairfield.org
SUMMARY:Sunday School
DESCRIPTION:
URL:https://stpaulfairfield.org/event/sunday-school-17/2028-03-26/
LOCATION:Grace Episcopal Church\, 1405 Kentucky Street\, Fairfield\, CA\, 94533\, United States
CATEGORIES:Sunday School
END:VEVENT
BEGIN:VEVENT
DTSTART;TZID=America/Los_Angeles:20280402T110000
DTEND;TZID=America/Los_Angeles:20280402T114500
DTSTAMP:20260421T201159
CREATED:20190901T202854Z
LAST-MODIFIED:20231127T192302Z
UID:10000540-1838286000-1838288700@stpaulfairfield.org
SUMMARY:Sunday School
DESCRIPTION:
URL:https://stpaulfairfield.org/event/sunday-school-17/2028-04-02/
LOCATION:Grace Episcopal Church\, 1405 Kentucky Street\, Fairfield\, CA\, 94533\, United States
CATEGORIES:Sunday School
END:VEVENT
BEGIN:VEVENT
DTSTART;TZID=America/Los_Angeles:20280409T110000
DTEND;TZID=America/Los_Angeles:20280409T114500
DTSTAMP:20260421T201159
CREATED:20190901T202854Z
LAST-MODIFIED:20231127T192302Z
UID:10000541-1838890800-1838893500@stpaulfairfield.org
SUMMARY:Sunday School
DESCRIPTION:
URL:https://stpaulfairfield.org/event/sunday-school-17/2028-04-09/
LOCATION:Grace Episcopal Church\, 1405 Kentucky Street\, Fairfield\, CA\, 94533\, United States
CATEGORIES:Sunday School
END:VEVENT
BEGIN:VEVENT
DTSTART;TZID=America/Los_Angeles:20280416T110000
DTEND;TZID=America/Los_Angeles:20280416T114500
DTSTAMP:20260421T201159
CREATED:20190901T202854Z
LAST-MODIFIED:20231127T192302Z
UID:10000542-1839495600-1839498300@stpaulfairfield.org
SUMMARY:Sunday School
DESCRIPTION:
URL:https://stpaulfairfield.org/event/sunday-school-17/2028-04-16/
LOCATION:Grace Episcopal Church\, 1405 Kentucky Street\, Fairfield\, CA\, 94533\, United States
CATEGORIES:Sunday School
END:VEVENT
BEGIN:VEVENT
DTSTART;TZID=America/Los_Angeles:20280423T110000
DTEND;TZID=America/Los_Angeles:20280423T114500
DTSTAMP:20260421T201159
CREATED:20190901T202854Z
LAST-MODIFIED:20231127T192302Z
UID:10000543-1840100400-1840103100@stpaulfairfield.org
SUMMARY:Sunday School
DESCRIPTION:
URL:https://stpaulfairfield.org/event/sunday-school-17/2028-04-23/
LOCATION:Grace Episcopal Church\, 1405 Kentucky Street\, Fairfield\, CA\, 94533\, United States
CATEGORIES:Sunday School
END:VEVENT
BEGIN:VEVENT
DTSTART;TZID=America/Los_Angeles:20280430T110000
DTEND;TZID=America/Los_Angeles:20280430T114500
DTSTAMP:20260421T201159
CREATED:20190901T202854Z
LAST-MODIFIED:20231127T192302Z
UID:10000544-1840705200-1840707900@stpaulfairfield.org
SUMMARY:Sunday School
DESCRIPTION:
URL:https://stpaulfairfield.org/event/sunday-school-17/2028-04-30/
LOCATION:Grace Episcopal Church\, 1405 Kentucky Street\, Fairfield\, CA\, 94533\, United States
CATEGORIES:Sunday School
END:VEVENT
BEGIN:VEVENT
DTSTART;TZID=America/Los_Angeles:20280507T110000
DTEND;TZID=America/Los_Angeles:20280507T114500
DTSTAMP:20260421T201159
CREATED:20190901T202854Z
LAST-MODIFIED:20231127T192302Z
UID:10000545-1841310000-1841312700@stpaulfairfield.org
SUMMARY:Sunday School
DESCRIPTION:
URL:https://stpaulfairfield.org/event/sunday-school-17/2028-05-07/
LOCATION:Grace Episcopal Church\, 1405 Kentucky Street\, Fairfield\, CA\, 94533\, United States
CATEGORIES:Sunday School
END:VEVENT
BEGIN:VEVENT
DTSTART;TZID=America/Los_Angeles:20280514T110000
DTEND;TZID=America/Los_Angeles:20280514T114500
DTSTAMP:20260421T201159
CREATED:20190901T202854Z
LAST-MODIFIED:20231127T192302Z
UID:10000546-1841914800-1841917500@stpaulfairfield.org
SUMMARY:Sunday School
DESCRIPTION:
URL:https://stpaulfairfield.org/event/sunday-school-17/2028-05-14/
LOCATION:Grace Episcopal Church\, 1405 Kentucky Street\, Fairfield\, CA\, 94533\, United States
CATEGORIES:Sunday School
END:VEVENT
BEGIN:VEVENT
DTSTART;TZID=America/Los_Angeles:20280521T110000
DTEND;TZID=America/Los_Angeles:20280521T114500
DTSTAMP:20260421T201159
CREATED:20190901T202854Z
LAST-MODIFIED:20231127T192302Z
UID:10000547-1842519600-1842522300@stpaulfairfield.org
SUMMARY:Sunday School
DESCRIPTION:
URL:https://stpaulfairfield.org/event/sunday-school-17/2028-05-21/
LOCATION:Grace Episcopal Church\, 1405 Kentucky Street\, Fairfield\, CA\, 94533\, United States
CATEGORIES:Sunday School
END:VEVENT
BEGIN:VEVENT
DTSTART;TZID=America/Los_Angeles:20280528T110000
DTEND;TZID=America/Los_Angeles:20280528T114500
DTSTAMP:20260421T201159
CREATED:20190901T202854Z
LAST-MODIFIED:20231127T192302Z
UID:10000548-1843124400-1843127100@stpaulfairfield.org
SUMMARY:Sunday School
DESCRIPTION:
URL:https://stpaulfairfield.org/event/sunday-school-17/2028-05-28/
LOCATION:Grace Episcopal Church\, 1405 Kentucky Street\, Fairfield\, CA\, 94533\, United States
CATEGORIES:Sunday School
END:VEVENT
BEGIN:VEVENT
DTSTART;TZID=America/Los_Angeles:20280604T110000
DTEND;TZID=America/Los_Angeles:20280604T114500
DTSTAMP:20260421T201159
CREATED:20190901T202854Z
LAST-MODIFIED:20231127T192302Z
UID:10000549-1843729200-1843731900@stpaulfairfield.org
SUMMARY:Sunday School
DESCRIPTION:
URL:https://stpaulfairfield.org/event/sunday-school-17/2028-06-04/
LOCATION:Grace Episcopal Church\, 1405 Kentucky Street\, Fairfield\, CA\, 94533\, United States
CATEGORIES:Sunday School
END:VEVENT
BEGIN:VEVENT
DTSTART;TZID=America/Los_Angeles:20280611T110000
DTEND;TZID=America/Los_Angeles:20280611T114500
DTSTAMP:20260421T201159
CREATED:20190901T202854Z
LAST-MODIFIED:20231127T192302Z
UID:10000550-1844334000-1844336700@stpaulfairfield.org
SUMMARY:Sunday School
DESCRIPTION:
URL:https://stpaulfairfield.org/event/sunday-school-17/2028-06-11/
LOCATION:Grace Episcopal Church\, 1405 Kentucky Street\, Fairfield\, CA\, 94533\, United States
CATEGORIES:Sunday School
END:VEVENT
BEGIN:VEVENT
DTSTART;TZID=America/Los_Angeles:20280618T110000
DTEND;TZID=America/Los_Angeles:20280618T114500
DTSTAMP:20260421T201159
CREATED:20190901T202854Z
LAST-MODIFIED:20231127T192302Z
UID:10000551-1844938800-1844941500@stpaulfairfield.org
SUMMARY:Sunday School
DESCRIPTION:
URL:https://stpaulfairfield.org/event/sunday-school-17/2028-06-18/
LOCATION:Grace Episcopal Church\, 1405 Kentucky Street\, Fairfield\, CA\, 94533\, United States
CATEGORIES:Sunday School
END:VEVENT
BEGIN:VEVENT
DTSTART;TZID=America/Los_Angeles:20280625T110000
DTEND;TZID=America/Los_Angeles:20280625T114500
DTSTAMP:20260421T201159
CREATED:20190901T202854Z
LAST-MODIFIED:20231127T192302Z
UID:10000552-1845543600-1845546300@stpaulfairfield.org
SUMMARY:Sunday School
DESCRIPTION:
URL:https://stpaulfairfield.org/event/sunday-school-17/2028-06-25/
LOCATION:Grace Episcopal Church\, 1405 Kentucky Street\, Fairfield\, CA\, 94533\, United States
CATEGORIES:Sunday School
END:VEVENT
END:VCALENDAR