BEGIN:VCALENDAR
VERSION:2.0
PRODID:-//St. Paul Baptist Church - Fairfield - ECPv6.15.20//NONSGML v1.0//EN
CALSCALE:GREGORIAN
METHOD:PUBLISH
X-ORIGINAL-URL:https://stpaulfairfield.org
X-WR-CALDESC:Events for St. Paul Baptist Church - Fairfield
REFRESH-INTERVAL;VALUE=DURATION:PT1H
X-Robots-Tag:noindex
X-PUBLISHED-TTL:PT1H
BEGIN:VTIMEZONE
TZID:America/Los_Angeles
BEGIN:DAYLIGHT
TZOFFSETFROM:-0800
TZOFFSETTO:-0700
TZNAME:PDT
DTSTART:20230312T100000
END:DAYLIGHT
BEGIN:STANDARD
TZOFFSETFROM:-0700
TZOFFSETTO:-0800
TZNAME:PST
DTSTART:20231105T090000
END:STANDARD
BEGIN:DAYLIGHT
TZOFFSETFROM:-0800
TZOFFSETTO:-0700
TZNAME:PDT
DTSTART:20240310T100000
END:DAYLIGHT
BEGIN:STANDARD
TZOFFSETFROM:-0700
TZOFFSETTO:-0800
TZNAME:PST
DTSTART:20241103T090000
END:STANDARD
BEGIN:DAYLIGHT
TZOFFSETFROM:-0800
TZOFFSETTO:-0700
TZNAME:PDT
DTSTART:20250309T100000
END:DAYLIGHT
BEGIN:STANDARD
TZOFFSETFROM:-0700
TZOFFSETTO:-0800
TZNAME:PST
DTSTART:20251102T090000
END:STANDARD
BEGIN:DAYLIGHT
TZOFFSETFROM:-0800
TZOFFSETTO:-0700
TZNAME:PDT
DTSTART:20260308T100000
END:DAYLIGHT
BEGIN:STANDARD
TZOFFSETFROM:-0700
TZOFFSETTO:-0800
TZNAME:PST
DTSTART:20261101T090000
END:STANDARD
END:VTIMEZONE
BEGIN:VEVENT
DTSTART;TZID=America/Los_Angeles:20250223T110000
DTEND;TZID=America/Los_Angeles:20250223T114500
DTSTAMP:20260421T195846
CREATED:20190901T202854Z
LAST-MODIFIED:20231127T192302Z
UID:10000378-1740308400-1740311100@stpaulfairfield.org
SUMMARY:Sunday School
DESCRIPTION:
URL:https://stpaulfairfield.org/event/sunday-school-17/2025-02-23/
LOCATION:Grace Episcopal Church\, 1405 Kentucky Street\, Fairfield\, CA\, 94533\, United States
CATEGORIES:Sunday School
END:VEVENT
BEGIN:VEVENT
DTSTART;TZID=America/Los_Angeles:20250216T110000
DTEND;TZID=America/Los_Angeles:20250216T114500
DTSTAMP:20260421T195846
CREATED:20190901T202854Z
LAST-MODIFIED:20231127T192302Z
UID:10000377-1739703600-1739706300@stpaulfairfield.org
SUMMARY:Sunday School
DESCRIPTION:
URL:https://stpaulfairfield.org/event/sunday-school-17/2025-02-16/
LOCATION:Grace Episcopal Church\, 1405 Kentucky Street\, Fairfield\, CA\, 94533\, United States
CATEGORIES:Sunday School
END:VEVENT
BEGIN:VEVENT
DTSTART;TZID=America/Los_Angeles:20250209T110000
DTEND;TZID=America/Los_Angeles:20250209T114500
DTSTAMP:20260421T195846
CREATED:20190901T202854Z
LAST-MODIFIED:20231127T192302Z
UID:10000376-1739098800-1739101500@stpaulfairfield.org
SUMMARY:Sunday School
DESCRIPTION:
URL:https://stpaulfairfield.org/event/sunday-school-17/2025-02-09/
LOCATION:Grace Episcopal Church\, 1405 Kentucky Street\, Fairfield\, CA\, 94533\, United States
CATEGORIES:Sunday School
END:VEVENT
BEGIN:VEVENT
DTSTART;TZID=America/Los_Angeles:20250202T110000
DTEND;TZID=America/Los_Angeles:20250202T114500
DTSTAMP:20260421T195846
CREATED:20190901T202854Z
LAST-MODIFIED:20231127T192302Z
UID:10000375-1738494000-1738496700@stpaulfairfield.org
SUMMARY:Sunday School
DESCRIPTION:
URL:https://stpaulfairfield.org/event/sunday-school-17/2025-02-02/
LOCATION:Grace Episcopal Church\, 1405 Kentucky Street\, Fairfield\, CA\, 94533\, United States
CATEGORIES:Sunday School
END:VEVENT
BEGIN:VEVENT
DTSTART;TZID=America/Los_Angeles:20250126T110000
DTEND;TZID=America/Los_Angeles:20250126T114500
DTSTAMP:20260421T195846
CREATED:20190901T202854Z
LAST-MODIFIED:20231127T192302Z
UID:10000374-1737889200-1737891900@stpaulfairfield.org
SUMMARY:Sunday School
DESCRIPTION:
URL:https://stpaulfairfield.org/event/sunday-school-17/2025-01-26/
LOCATION:Grace Episcopal Church\, 1405 Kentucky Street\, Fairfield\, CA\, 94533\, United States
CATEGORIES:Sunday School
END:VEVENT
BEGIN:VEVENT
DTSTART;TZID=America/Los_Angeles:20250119T110000
DTEND;TZID=America/Los_Angeles:20250119T114500
DTSTAMP:20260421T195846
CREATED:20190901T202854Z
LAST-MODIFIED:20231127T192302Z
UID:10000373-1737284400-1737287100@stpaulfairfield.org
SUMMARY:Sunday School
DESCRIPTION:
URL:https://stpaulfairfield.org/event/sunday-school-17/2025-01-19/
LOCATION:Grace Episcopal Church\, 1405 Kentucky Street\, Fairfield\, CA\, 94533\, United States
CATEGORIES:Sunday School
END:VEVENT
BEGIN:VEVENT
DTSTART;TZID=America/Los_Angeles:20250112T110000
DTEND;TZID=America/Los_Angeles:20250112T114500
DTSTAMP:20260421T195846
CREATED:20190901T202854Z
LAST-MODIFIED:20231127T192302Z
UID:10000372-1736679600-1736682300@stpaulfairfield.org
SUMMARY:Sunday School
DESCRIPTION:
URL:https://stpaulfairfield.org/event/sunday-school-17/2025-01-12/
LOCATION:Grace Episcopal Church\, 1405 Kentucky Street\, Fairfield\, CA\, 94533\, United States
CATEGORIES:Sunday School
END:VEVENT
BEGIN:VEVENT
DTSTART;TZID=America/Los_Angeles:20250105T110000
DTEND;TZID=America/Los_Angeles:20250105T114500
DTSTAMP:20260421T195846
CREATED:20190901T202854Z
LAST-MODIFIED:20231127T192302Z
UID:10000371-1736074800-1736077500@stpaulfairfield.org
SUMMARY:Sunday School
DESCRIPTION:
URL:https://stpaulfairfield.org/event/sunday-school-17/2025-01-05/
LOCATION:Grace Episcopal Church\, 1405 Kentucky Street\, Fairfield\, CA\, 94533\, United States
CATEGORIES:Sunday School
END:VEVENT
BEGIN:VEVENT
DTSTART;TZID=America/Los_Angeles:20241229T110000
DTEND;TZID=America/Los_Angeles:20241229T114500
DTSTAMP:20260421T195846
CREATED:20190901T202854Z
LAST-MODIFIED:20231127T192302Z
UID:10000370-1735470000-1735472700@stpaulfairfield.org
SUMMARY:Sunday School
DESCRIPTION:
URL:https://stpaulfairfield.org/event/sunday-school-17/2024-12-29/
LOCATION:Grace Episcopal Church\, 1405 Kentucky Street\, Fairfield\, CA\, 94533\, United States
CATEGORIES:Sunday School
END:VEVENT
BEGIN:VEVENT
DTSTART;TZID=America/Los_Angeles:20241222T110000
DTEND;TZID=America/Los_Angeles:20241222T114500
DTSTAMP:20260421T195846
CREATED:20190901T202854Z
LAST-MODIFIED:20231127T192302Z
UID:10000369-1734865200-1734867900@stpaulfairfield.org
SUMMARY:Sunday School
DESCRIPTION:
URL:https://stpaulfairfield.org/event/sunday-school-17/2024-12-22/
LOCATION:Grace Episcopal Church\, 1405 Kentucky Street\, Fairfield\, CA\, 94533\, United States
CATEGORIES:Sunday School
END:VEVENT
BEGIN:VEVENT
DTSTART;TZID=America/Los_Angeles:20241215T110000
DTEND;TZID=America/Los_Angeles:20241215T114500
DTSTAMP:20260421T195846
CREATED:20190901T202854Z
LAST-MODIFIED:20231127T192302Z
UID:10000368-1734260400-1734263100@stpaulfairfield.org
SUMMARY:Sunday School
DESCRIPTION:
URL:https://stpaulfairfield.org/event/sunday-school-17/2024-12-15/
LOCATION:Grace Episcopal Church\, 1405 Kentucky Street\, Fairfield\, CA\, 94533\, United States
CATEGORIES:Sunday School
END:VEVENT
BEGIN:VEVENT
DTSTART;TZID=America/Los_Angeles:20241208T110000
DTEND;TZID=America/Los_Angeles:20241208T114500
DTSTAMP:20260421T195846
CREATED:20190901T202854Z
LAST-MODIFIED:20231127T192302Z
UID:10000367-1733655600-1733658300@stpaulfairfield.org
SUMMARY:Sunday School
DESCRIPTION:
URL:https://stpaulfairfield.org/event/sunday-school-17/2024-12-08/
LOCATION:Grace Episcopal Church\, 1405 Kentucky Street\, Fairfield\, CA\, 94533\, United States
CATEGORIES:Sunday School
END:VEVENT
BEGIN:VEVENT
DTSTART;TZID=America/Los_Angeles:20241201T110000
DTEND;TZID=America/Los_Angeles:20241201T114500
DTSTAMP:20260421T195846
CREATED:20190901T202854Z
LAST-MODIFIED:20231127T192302Z
UID:10000366-1733050800-1733053500@stpaulfairfield.org
SUMMARY:Sunday School
DESCRIPTION:
URL:https://stpaulfairfield.org/event/sunday-school-17/2024-12-01/
LOCATION:Grace Episcopal Church\, 1405 Kentucky Street\, Fairfield\, CA\, 94533\, United States
CATEGORIES:Sunday School
END:VEVENT
BEGIN:VEVENT
DTSTART;TZID=America/Los_Angeles:20241124T110000
DTEND;TZID=America/Los_Angeles:20241124T114500
DTSTAMP:20260421T195846
CREATED:20190901T202854Z
LAST-MODIFIED:20231127T192302Z
UID:10000365-1732446000-1732448700@stpaulfairfield.org
SUMMARY:Sunday School
DESCRIPTION:
URL:https://stpaulfairfield.org/event/sunday-school-17/2024-11-24/
LOCATION:Grace Episcopal Church\, 1405 Kentucky Street\, Fairfield\, CA\, 94533\, United States
CATEGORIES:Sunday School
END:VEVENT
BEGIN:VEVENT
DTSTART;TZID=America/Los_Angeles:20241117T110000
DTEND;TZID=America/Los_Angeles:20241117T114500
DTSTAMP:20260421T195846
CREATED:20190901T202854Z
LAST-MODIFIED:20231127T192302Z
UID:10000364-1731841200-1731843900@stpaulfairfield.org
SUMMARY:Sunday School
DESCRIPTION:
URL:https://stpaulfairfield.org/event/sunday-school-17/2024-11-17/
LOCATION:Grace Episcopal Church\, 1405 Kentucky Street\, Fairfield\, CA\, 94533\, United States
CATEGORIES:Sunday School
END:VEVENT
BEGIN:VEVENT
DTSTART;TZID=America/Los_Angeles:20241110T110000
DTEND;TZID=America/Los_Angeles:20241110T114500
DTSTAMP:20260421T195846
CREATED:20190901T202854Z
LAST-MODIFIED:20231127T192302Z
UID:10000363-1731236400-1731239100@stpaulfairfield.org
SUMMARY:Sunday School
DESCRIPTION:
URL:https://stpaulfairfield.org/event/sunday-school-17/2024-11-10/
LOCATION:Grace Episcopal Church\, 1405 Kentucky Street\, Fairfield\, CA\, 94533\, United States
CATEGORIES:Sunday School
END:VEVENT
BEGIN:VEVENT
DTSTART;TZID=America/Los_Angeles:20241103T110000
DTEND;TZID=America/Los_Angeles:20241103T114500
DTSTAMP:20260421T195846
CREATED:20190901T202854Z
LAST-MODIFIED:20231127T192302Z
UID:10000362-1730631600-1730634300@stpaulfairfield.org
SUMMARY:Sunday School
DESCRIPTION:
URL:https://stpaulfairfield.org/event/sunday-school-17/2024-11-03/
LOCATION:Grace Episcopal Church\, 1405 Kentucky Street\, Fairfield\, CA\, 94533\, United States
CATEGORIES:Sunday School
END:VEVENT
BEGIN:VEVENT
DTSTART;TZID=America/Los_Angeles:20241027T110000
DTEND;TZID=America/Los_Angeles:20241027T114500
DTSTAMP:20260421T195846
CREATED:20190901T202854Z
LAST-MODIFIED:20231127T192302Z
UID:10000361-1730026800-1730029500@stpaulfairfield.org
SUMMARY:Sunday School
DESCRIPTION:
URL:https://stpaulfairfield.org/event/sunday-school-17/2024-10-27/
LOCATION:Grace Episcopal Church\, 1405 Kentucky Street\, Fairfield\, CA\, 94533\, United States
CATEGORIES:Sunday School
END:VEVENT
BEGIN:VEVENT
DTSTART;TZID=America/Los_Angeles:20241020T110000
DTEND;TZID=America/Los_Angeles:20241020T114500
DTSTAMP:20260421T195846
CREATED:20190901T202854Z
LAST-MODIFIED:20231127T192302Z
UID:10000360-1729422000-1729424700@stpaulfairfield.org
SUMMARY:Sunday School
DESCRIPTION:
URL:https://stpaulfairfield.org/event/sunday-school-17/2024-10-20/
LOCATION:Grace Episcopal Church\, 1405 Kentucky Street\, Fairfield\, CA\, 94533\, United States
CATEGORIES:Sunday School
END:VEVENT
BEGIN:VEVENT
DTSTART;TZID=America/Los_Angeles:20241013T110000
DTEND;TZID=America/Los_Angeles:20241013T114500
DTSTAMP:20260421T195846
CREATED:20190901T202854Z
LAST-MODIFIED:20231127T192302Z
UID:10000359-1728817200-1728819900@stpaulfairfield.org
SUMMARY:Sunday School
DESCRIPTION:
URL:https://stpaulfairfield.org/event/sunday-school-17/2024-10-13/
LOCATION:Grace Episcopal Church\, 1405 Kentucky Street\, Fairfield\, CA\, 94533\, United States
CATEGORIES:Sunday School
END:VEVENT
BEGIN:VEVENT
DTSTART;TZID=America/Los_Angeles:20241006T110000
DTEND;TZID=America/Los_Angeles:20241006T114500
DTSTAMP:20260421T195846
CREATED:20190901T202854Z
LAST-MODIFIED:20231127T192302Z
UID:10000358-1728212400-1728215100@stpaulfairfield.org
SUMMARY:Sunday School
DESCRIPTION:
URL:https://stpaulfairfield.org/event/sunday-school-17/2024-10-06/
LOCATION:Grace Episcopal Church\, 1405 Kentucky Street\, Fairfield\, CA\, 94533\, United States
CATEGORIES:Sunday School
END:VEVENT
BEGIN:VEVENT
DTSTART;TZID=America/Los_Angeles:20240929T110000
DTEND;TZID=America/Los_Angeles:20240929T114500
DTSTAMP:20260421T195846
CREATED:20190901T202854Z
LAST-MODIFIED:20231127T192302Z
UID:10000357-1727607600-1727610300@stpaulfairfield.org
SUMMARY:Sunday School
DESCRIPTION:
URL:https://stpaulfairfield.org/event/sunday-school-17/2024-09-29/
LOCATION:Grace Episcopal Church\, 1405 Kentucky Street\, Fairfield\, CA\, 94533\, United States
CATEGORIES:Sunday School
END:VEVENT
BEGIN:VEVENT
DTSTART;TZID=America/Los_Angeles:20240922T110000
DTEND;TZID=America/Los_Angeles:20240922T114500
DTSTAMP:20260421T195846
CREATED:20190901T202854Z
LAST-MODIFIED:20231127T192302Z
UID:10000356-1727002800-1727005500@stpaulfairfield.org
SUMMARY:Sunday School
DESCRIPTION:
URL:https://stpaulfairfield.org/event/sunday-school-17/2024-09-22/
LOCATION:Grace Episcopal Church\, 1405 Kentucky Street\, Fairfield\, CA\, 94533\, United States
CATEGORIES:Sunday School
END:VEVENT
BEGIN:VEVENT
DTSTART;TZID=America/Los_Angeles:20240915T110000
DTEND;TZID=America/Los_Angeles:20240915T114500
DTSTAMP:20260421T195846
CREATED:20190901T202854Z
LAST-MODIFIED:20231127T192302Z
UID:10000355-1726398000-1726400700@stpaulfairfield.org
SUMMARY:Sunday School
DESCRIPTION:
URL:https://stpaulfairfield.org/event/sunday-school-17/2024-09-15/
LOCATION:Grace Episcopal Church\, 1405 Kentucky Street\, Fairfield\, CA\, 94533\, United States
CATEGORIES:Sunday School
END:VEVENT
BEGIN:VEVENT
DTSTART;TZID=America/Los_Angeles:20240908T110000
DTEND;TZID=America/Los_Angeles:20240908T114500
DTSTAMP:20260421T195846
CREATED:20190901T202854Z
LAST-MODIFIED:20231127T192302Z
UID:10000354-1725793200-1725795900@stpaulfairfield.org
SUMMARY:Sunday School
DESCRIPTION:
URL:https://stpaulfairfield.org/event/sunday-school-17/2024-09-08/
LOCATION:Grace Episcopal Church\, 1405 Kentucky Street\, Fairfield\, CA\, 94533\, United States
CATEGORIES:Sunday School
END:VEVENT
BEGIN:VEVENT
DTSTART;TZID=America/Los_Angeles:20240901T110000
DTEND;TZID=America/Los_Angeles:20240901T114500
DTSTAMP:20260421T195846
CREATED:20190901T202854Z
LAST-MODIFIED:20231127T192302Z
UID:10000353-1725188400-1725191100@stpaulfairfield.org
SUMMARY:Sunday School
DESCRIPTION:
URL:https://stpaulfairfield.org/event/sunday-school-17/2024-09-01/
LOCATION:Grace Episcopal Church\, 1405 Kentucky Street\, Fairfield\, CA\, 94533\, United States
CATEGORIES:Sunday School
END:VEVENT
BEGIN:VEVENT
DTSTART;TZID=America/Los_Angeles:20240825T110000
DTEND;TZID=America/Los_Angeles:20240825T114500
DTSTAMP:20260421T195846
CREATED:20190901T202854Z
LAST-MODIFIED:20231127T192302Z
UID:10000352-1724583600-1724586300@stpaulfairfield.org
SUMMARY:Sunday School
DESCRIPTION:
URL:https://stpaulfairfield.org/event/sunday-school-17/2024-08-25/
LOCATION:Grace Episcopal Church\, 1405 Kentucky Street\, Fairfield\, CA\, 94533\, United States
CATEGORIES:Sunday School
END:VEVENT
BEGIN:VEVENT
DTSTART;TZID=America/Los_Angeles:20240818T110000
DTEND;TZID=America/Los_Angeles:20240818T114500
DTSTAMP:20260421T195846
CREATED:20190901T202854Z
LAST-MODIFIED:20231127T192302Z
UID:10000351-1723978800-1723981500@stpaulfairfield.org
SUMMARY:Sunday School
DESCRIPTION:
URL:https://stpaulfairfield.org/event/sunday-school-17/2024-08-18/
LOCATION:Grace Episcopal Church\, 1405 Kentucky Street\, Fairfield\, CA\, 94533\, United States
CATEGORIES:Sunday School
END:VEVENT
BEGIN:VEVENT
DTSTART;TZID=America/Los_Angeles:20240811T110000
DTEND;TZID=America/Los_Angeles:20240811T114500
DTSTAMP:20260421T195846
CREATED:20190901T202854Z
LAST-MODIFIED:20231127T192302Z
UID:10000350-1723374000-1723376700@stpaulfairfield.org
SUMMARY:Sunday School
DESCRIPTION:
URL:https://stpaulfairfield.org/event/sunday-school-17/2024-08-11/
LOCATION:Grace Episcopal Church\, 1405 Kentucky Street\, Fairfield\, CA\, 94533\, United States
CATEGORIES:Sunday School
END:VEVENT
BEGIN:VEVENT
DTSTART;TZID=America/Los_Angeles:20240804T110000
DTEND;TZID=America/Los_Angeles:20240804T114500
DTSTAMP:20260421T195846
CREATED:20190901T202854Z
LAST-MODIFIED:20231127T192302Z
UID:10000349-1722769200-1722771900@stpaulfairfield.org
SUMMARY:Sunday School
DESCRIPTION:
URL:https://stpaulfairfield.org/event/sunday-school-17/2024-08-04/
LOCATION:Grace Episcopal Church\, 1405 Kentucky Street\, Fairfield\, CA\, 94533\, United States
CATEGORIES:Sunday School
END:VEVENT
END:VCALENDAR