BEGIN:VCALENDAR
VERSION:2.0
PRODID:-//St. Paul Baptist Church - Fairfield - ECPv6.15.20//NONSGML v1.0//EN
CALSCALE:GREGORIAN
METHOD:PUBLISH
X-WR-CALNAME:St. Paul Baptist Church - Fairfield
X-ORIGINAL-URL:https://stpaulfairfield.org
X-WR-CALDESC:Events for St. Paul Baptist Church - Fairfield
REFRESH-INTERVAL;VALUE=DURATION:PT1H
X-Robots-Tag:noindex
X-PUBLISHED-TTL:PT1H
BEGIN:VTIMEZONE
TZID:America/Los_Angeles
BEGIN:DAYLIGHT
TZOFFSETFROM:-0800
TZOFFSETTO:-0700
TZNAME:PDT
DTSTART:20250309T100000
END:DAYLIGHT
BEGIN:STANDARD
TZOFFSETFROM:-0700
TZOFFSETTO:-0800
TZNAME:PST
DTSTART:20251102T090000
END:STANDARD
BEGIN:DAYLIGHT
TZOFFSETFROM:-0800
TZOFFSETTO:-0700
TZNAME:PDT
DTSTART:20260308T100000
END:DAYLIGHT
BEGIN:STANDARD
TZOFFSETFROM:-0700
TZOFFSETTO:-0800
TZNAME:PST
DTSTART:20261101T090000
END:STANDARD
BEGIN:DAYLIGHT
TZOFFSETFROM:-0800
TZOFFSETTO:-0700
TZNAME:PDT
DTSTART:20270314T100000
END:DAYLIGHT
BEGIN:STANDARD
TZOFFSETFROM:-0700
TZOFFSETTO:-0800
TZNAME:PST
DTSTART:20271107T090000
END:STANDARD
BEGIN:DAYLIGHT
TZOFFSETFROM:-0800
TZOFFSETTO:-0700
TZNAME:PDT
DTSTART:20280312T100000
END:DAYLIGHT
BEGIN:STANDARD
TZOFFSETFROM:-0700
TZOFFSETTO:-0800
TZNAME:PST
DTSTART:20281105T090000
END:STANDARD
END:VTIMEZONE
BEGIN:VEVENT
DTSTART;TZID=America/Los_Angeles:20260823T110000
DTEND;TZID=America/Los_Angeles:20260823T114500
DTSTAMP:20260421T153405
CREATED:20190901T202854Z
LAST-MODIFIED:20231127T192302Z
UID:10000456-1787482800-1787485500@stpaulfairfield.org
SUMMARY:Sunday School
DESCRIPTION:
URL:https://stpaulfairfield.org/event/sunday-school-17/2026-08-23/
LOCATION:Grace Episcopal Church\, 1405 Kentucky Street\, Fairfield\, CA\, 94533\, United States
CATEGORIES:Sunday School
END:VEVENT
BEGIN:VEVENT
DTSTART;TZID=America/Los_Angeles:20260830T110000
DTEND;TZID=America/Los_Angeles:20260830T114500
DTSTAMP:20260421T153405
CREATED:20190901T202854Z
LAST-MODIFIED:20231127T192302Z
UID:10000457-1788087600-1788090300@stpaulfairfield.org
SUMMARY:Sunday School
DESCRIPTION:
URL:https://stpaulfairfield.org/event/sunday-school-17/2026-08-30/
LOCATION:Grace Episcopal Church\, 1405 Kentucky Street\, Fairfield\, CA\, 94533\, United States
CATEGORIES:Sunday School
END:VEVENT
BEGIN:VEVENT
DTSTART;TZID=America/Los_Angeles:20260906T110000
DTEND;TZID=America/Los_Angeles:20260906T114500
DTSTAMP:20260421T153405
CREATED:20190901T202854Z
LAST-MODIFIED:20231127T192302Z
UID:10000458-1788692400-1788695100@stpaulfairfield.org
SUMMARY:Sunday School
DESCRIPTION:
URL:https://stpaulfairfield.org/event/sunday-school-17/2026-09-06/
LOCATION:Grace Episcopal Church\, 1405 Kentucky Street\, Fairfield\, CA\, 94533\, United States
CATEGORIES:Sunday School
END:VEVENT
BEGIN:VEVENT
DTSTART;TZID=America/Los_Angeles:20260913T110000
DTEND;TZID=America/Los_Angeles:20260913T114500
DTSTAMP:20260421T153405
CREATED:20190901T202854Z
LAST-MODIFIED:20231127T192302Z
UID:10000459-1789297200-1789299900@stpaulfairfield.org
SUMMARY:Sunday School
DESCRIPTION:
URL:https://stpaulfairfield.org/event/sunday-school-17/2026-09-13/
LOCATION:Grace Episcopal Church\, 1405 Kentucky Street\, Fairfield\, CA\, 94533\, United States
CATEGORIES:Sunday School
END:VEVENT
BEGIN:VEVENT
DTSTART;TZID=America/Los_Angeles:20260920T110000
DTEND;TZID=America/Los_Angeles:20260920T114500
DTSTAMP:20260421T153405
CREATED:20190901T202854Z
LAST-MODIFIED:20231127T192302Z
UID:10000460-1789902000-1789904700@stpaulfairfield.org
SUMMARY:Sunday School
DESCRIPTION:
URL:https://stpaulfairfield.org/event/sunday-school-17/2026-09-20/
LOCATION:Grace Episcopal Church\, 1405 Kentucky Street\, Fairfield\, CA\, 94533\, United States
CATEGORIES:Sunday School
END:VEVENT
BEGIN:VEVENT
DTSTART;TZID=America/Los_Angeles:20260927T110000
DTEND;TZID=America/Los_Angeles:20260927T114500
DTSTAMP:20260421T153405
CREATED:20190901T202854Z
LAST-MODIFIED:20231127T192302Z
UID:10000461-1790506800-1790509500@stpaulfairfield.org
SUMMARY:Sunday School
DESCRIPTION:
URL:https://stpaulfairfield.org/event/sunday-school-17/2026-09-27/
LOCATION:Grace Episcopal Church\, 1405 Kentucky Street\, Fairfield\, CA\, 94533\, United States
CATEGORIES:Sunday School
END:VEVENT
BEGIN:VEVENT
DTSTART;TZID=America/Los_Angeles:20261004T110000
DTEND;TZID=America/Los_Angeles:20261004T114500
DTSTAMP:20260421T153405
CREATED:20190901T202854Z
LAST-MODIFIED:20231127T192302Z
UID:10000462-1791111600-1791114300@stpaulfairfield.org
SUMMARY:Sunday School
DESCRIPTION:
URL:https://stpaulfairfield.org/event/sunday-school-17/2026-10-04/
LOCATION:Grace Episcopal Church\, 1405 Kentucky Street\, Fairfield\, CA\, 94533\, United States
CATEGORIES:Sunday School
END:VEVENT
BEGIN:VEVENT
DTSTART;TZID=America/Los_Angeles:20261011T110000
DTEND;TZID=America/Los_Angeles:20261011T114500
DTSTAMP:20260421T153405
CREATED:20190901T202854Z
LAST-MODIFIED:20231127T192302Z
UID:10000463-1791716400-1791719100@stpaulfairfield.org
SUMMARY:Sunday School
DESCRIPTION:
URL:https://stpaulfairfield.org/event/sunday-school-17/2026-10-11/
LOCATION:Grace Episcopal Church\, 1405 Kentucky Street\, Fairfield\, CA\, 94533\, United States
CATEGORIES:Sunday School
END:VEVENT
BEGIN:VEVENT
DTSTART;TZID=America/Los_Angeles:20261018T110000
DTEND;TZID=America/Los_Angeles:20261018T114500
DTSTAMP:20260421T153405
CREATED:20190901T202854Z
LAST-MODIFIED:20231127T192302Z
UID:10000464-1792321200-1792323900@stpaulfairfield.org
SUMMARY:Sunday School
DESCRIPTION:
URL:https://stpaulfairfield.org/event/sunday-school-17/2026-10-18/
LOCATION:Grace Episcopal Church\, 1405 Kentucky Street\, Fairfield\, CA\, 94533\, United States
CATEGORIES:Sunday School
END:VEVENT
BEGIN:VEVENT
DTSTART;TZID=America/Los_Angeles:20261025T110000
DTEND;TZID=America/Los_Angeles:20261025T114500
DTSTAMP:20260421T153405
CREATED:20190901T202854Z
LAST-MODIFIED:20231127T192302Z
UID:10000465-1792926000-1792928700@stpaulfairfield.org
SUMMARY:Sunday School
DESCRIPTION:
URL:https://stpaulfairfield.org/event/sunday-school-17/2026-10-25/
LOCATION:Grace Episcopal Church\, 1405 Kentucky Street\, Fairfield\, CA\, 94533\, United States
CATEGORIES:Sunday School
END:VEVENT
BEGIN:VEVENT
DTSTART;TZID=America/Los_Angeles:20261101T110000
DTEND;TZID=America/Los_Angeles:20261101T114500
DTSTAMP:20260421T153405
CREATED:20190901T202854Z
LAST-MODIFIED:20231127T192302Z
UID:10000466-1793530800-1793533500@stpaulfairfield.org
SUMMARY:Sunday School
DESCRIPTION:
URL:https://stpaulfairfield.org/event/sunday-school-17/2026-11-01/
LOCATION:Grace Episcopal Church\, 1405 Kentucky Street\, Fairfield\, CA\, 94533\, United States
CATEGORIES:Sunday School
END:VEVENT
BEGIN:VEVENT
DTSTART;TZID=America/Los_Angeles:20261108T110000
DTEND;TZID=America/Los_Angeles:20261108T114500
DTSTAMP:20260421T153405
CREATED:20190901T202854Z
LAST-MODIFIED:20231127T192302Z
UID:10000467-1794135600-1794138300@stpaulfairfield.org
SUMMARY:Sunday School
DESCRIPTION:
URL:https://stpaulfairfield.org/event/sunday-school-17/2026-11-08/
LOCATION:Grace Episcopal Church\, 1405 Kentucky Street\, Fairfield\, CA\, 94533\, United States
CATEGORIES:Sunday School
END:VEVENT
BEGIN:VEVENT
DTSTART;TZID=America/Los_Angeles:20261115T110000
DTEND;TZID=America/Los_Angeles:20261115T114500
DTSTAMP:20260421T153405
CREATED:20190901T202854Z
LAST-MODIFIED:20231127T192302Z
UID:10000468-1794740400-1794743100@stpaulfairfield.org
SUMMARY:Sunday School
DESCRIPTION:
URL:https://stpaulfairfield.org/event/sunday-school-17/2026-11-15/
LOCATION:Grace Episcopal Church\, 1405 Kentucky Street\, Fairfield\, CA\, 94533\, United States
CATEGORIES:Sunday School
END:VEVENT
BEGIN:VEVENT
DTSTART;TZID=America/Los_Angeles:20261122T110000
DTEND;TZID=America/Los_Angeles:20261122T114500
DTSTAMP:20260421T153405
CREATED:20190901T202854Z
LAST-MODIFIED:20231127T192302Z
UID:10000469-1795345200-1795347900@stpaulfairfield.org
SUMMARY:Sunday School
DESCRIPTION:
URL:https://stpaulfairfield.org/event/sunday-school-17/2026-11-22/
LOCATION:Grace Episcopal Church\, 1405 Kentucky Street\, Fairfield\, CA\, 94533\, United States
CATEGORIES:Sunday School
END:VEVENT
BEGIN:VEVENT
DTSTART;TZID=America/Los_Angeles:20261129T110000
DTEND;TZID=America/Los_Angeles:20261129T114500
DTSTAMP:20260421T153405
CREATED:20190901T202854Z
LAST-MODIFIED:20231127T192302Z
UID:10000470-1795950000-1795952700@stpaulfairfield.org
SUMMARY:Sunday School
DESCRIPTION:
URL:https://stpaulfairfield.org/event/sunday-school-17/2026-11-29/
LOCATION:Grace Episcopal Church\, 1405 Kentucky Street\, Fairfield\, CA\, 94533\, United States
CATEGORIES:Sunday School
END:VEVENT
BEGIN:VEVENT
DTSTART;TZID=America/Los_Angeles:20261206T110000
DTEND;TZID=America/Los_Angeles:20261206T114500
DTSTAMP:20260421T153405
CREATED:20190901T202854Z
LAST-MODIFIED:20231127T192302Z
UID:10000471-1796554800-1796557500@stpaulfairfield.org
SUMMARY:Sunday School
DESCRIPTION:
URL:https://stpaulfairfield.org/event/sunday-school-17/2026-12-06/
LOCATION:Grace Episcopal Church\, 1405 Kentucky Street\, Fairfield\, CA\, 94533\, United States
CATEGORIES:Sunday School
END:VEVENT
BEGIN:VEVENT
DTSTART;TZID=America/Los_Angeles:20261213T110000
DTEND;TZID=America/Los_Angeles:20261213T114500
DTSTAMP:20260421T153405
CREATED:20190901T202854Z
LAST-MODIFIED:20231127T192302Z
UID:10000472-1797159600-1797162300@stpaulfairfield.org
SUMMARY:Sunday School
DESCRIPTION:
URL:https://stpaulfairfield.org/event/sunday-school-17/2026-12-13/
LOCATION:Grace Episcopal Church\, 1405 Kentucky Street\, Fairfield\, CA\, 94533\, United States
CATEGORIES:Sunday School
END:VEVENT
BEGIN:VEVENT
DTSTART;TZID=America/Los_Angeles:20261220T110000
DTEND;TZID=America/Los_Angeles:20261220T114500
DTSTAMP:20260421T153405
CREATED:20190901T202854Z
LAST-MODIFIED:20231127T192302Z
UID:10000473-1797764400-1797767100@stpaulfairfield.org
SUMMARY:Sunday School
DESCRIPTION:
URL:https://stpaulfairfield.org/event/sunday-school-17/2026-12-20/
LOCATION:Grace Episcopal Church\, 1405 Kentucky Street\, Fairfield\, CA\, 94533\, United States
CATEGORIES:Sunday School
END:VEVENT
BEGIN:VEVENT
DTSTART;TZID=America/Los_Angeles:20261227T110000
DTEND;TZID=America/Los_Angeles:20261227T114500
DTSTAMP:20260421T153405
CREATED:20190901T202854Z
LAST-MODIFIED:20231127T192302Z
UID:10000474-1798369200-1798371900@stpaulfairfield.org
SUMMARY:Sunday School
DESCRIPTION:
URL:https://stpaulfairfield.org/event/sunday-school-17/2026-12-27/
LOCATION:Grace Episcopal Church\, 1405 Kentucky Street\, Fairfield\, CA\, 94533\, United States
CATEGORIES:Sunday School
END:VEVENT
BEGIN:VEVENT
DTSTART;TZID=America/Los_Angeles:20270103T110000
DTEND;TZID=America/Los_Angeles:20270103T114500
DTSTAMP:20260421T153405
CREATED:20190901T202854Z
LAST-MODIFIED:20231127T192302Z
UID:10000475-1798974000-1798976700@stpaulfairfield.org
SUMMARY:Sunday School
DESCRIPTION:
URL:https://stpaulfairfield.org/event/sunday-school-17/2027-01-03/
LOCATION:Grace Episcopal Church\, 1405 Kentucky Street\, Fairfield\, CA\, 94533\, United States
CATEGORIES:Sunday School
END:VEVENT
BEGIN:VEVENT
DTSTART;TZID=America/Los_Angeles:20270110T110000
DTEND;TZID=America/Los_Angeles:20270110T114500
DTSTAMP:20260421T153405
CREATED:20190901T202854Z
LAST-MODIFIED:20231127T192302Z
UID:10000476-1799578800-1799581500@stpaulfairfield.org
SUMMARY:Sunday School
DESCRIPTION:
URL:https://stpaulfairfield.org/event/sunday-school-17/2027-01-10/
LOCATION:Grace Episcopal Church\, 1405 Kentucky Street\, Fairfield\, CA\, 94533\, United States
CATEGORIES:Sunday School
END:VEVENT
BEGIN:VEVENT
DTSTART;TZID=America/Los_Angeles:20270117T110000
DTEND;TZID=America/Los_Angeles:20270117T114500
DTSTAMP:20260421T153405
CREATED:20190901T202854Z
LAST-MODIFIED:20231127T192302Z
UID:10000477-1800183600-1800186300@stpaulfairfield.org
SUMMARY:Sunday School
DESCRIPTION:
URL:https://stpaulfairfield.org/event/sunday-school-17/2027-01-17/
LOCATION:Grace Episcopal Church\, 1405 Kentucky Street\, Fairfield\, CA\, 94533\, United States
CATEGORIES:Sunday School
END:VEVENT
BEGIN:VEVENT
DTSTART;TZID=America/Los_Angeles:20270124T110000
DTEND;TZID=America/Los_Angeles:20270124T114500
DTSTAMP:20260421T153405
CREATED:20190901T202854Z
LAST-MODIFIED:20231127T192302Z
UID:10000478-1800788400-1800791100@stpaulfairfield.org
SUMMARY:Sunday School
DESCRIPTION:
URL:https://stpaulfairfield.org/event/sunday-school-17/2027-01-24/
LOCATION:Grace Episcopal Church\, 1405 Kentucky Street\, Fairfield\, CA\, 94533\, United States
CATEGORIES:Sunday School
END:VEVENT
BEGIN:VEVENT
DTSTART;TZID=America/Los_Angeles:20270131T110000
DTEND;TZID=America/Los_Angeles:20270131T114500
DTSTAMP:20260421T153405
CREATED:20190901T202854Z
LAST-MODIFIED:20231127T192302Z
UID:10000479-1801393200-1801395900@stpaulfairfield.org
SUMMARY:Sunday School
DESCRIPTION:
URL:https://stpaulfairfield.org/event/sunday-school-17/2027-01-31/
LOCATION:Grace Episcopal Church\, 1405 Kentucky Street\, Fairfield\, CA\, 94533\, United States
CATEGORIES:Sunday School
END:VEVENT
BEGIN:VEVENT
DTSTART;TZID=America/Los_Angeles:20270207T110000
DTEND;TZID=America/Los_Angeles:20270207T114500
DTSTAMP:20260421T153405
CREATED:20190901T202854Z
LAST-MODIFIED:20231127T192302Z
UID:10000480-1801998000-1802000700@stpaulfairfield.org
SUMMARY:Sunday School
DESCRIPTION:
URL:https://stpaulfairfield.org/event/sunday-school-17/2027-02-07/
LOCATION:Grace Episcopal Church\, 1405 Kentucky Street\, Fairfield\, CA\, 94533\, United States
CATEGORIES:Sunday School
END:VEVENT
BEGIN:VEVENT
DTSTART;TZID=America/Los_Angeles:20270214T110000
DTEND;TZID=America/Los_Angeles:20270214T114500
DTSTAMP:20260421T153405
CREATED:20190901T202854Z
LAST-MODIFIED:20231127T192302Z
UID:10000481-1802602800-1802605500@stpaulfairfield.org
SUMMARY:Sunday School
DESCRIPTION:
URL:https://stpaulfairfield.org/event/sunday-school-17/2027-02-14/
LOCATION:Grace Episcopal Church\, 1405 Kentucky Street\, Fairfield\, CA\, 94533\, United States
CATEGORIES:Sunday School
END:VEVENT
BEGIN:VEVENT
DTSTART;TZID=America/Los_Angeles:20270221T110000
DTEND;TZID=America/Los_Angeles:20270221T114500
DTSTAMP:20260421T153405
CREATED:20190901T202854Z
LAST-MODIFIED:20231127T192302Z
UID:10000482-1803207600-1803210300@stpaulfairfield.org
SUMMARY:Sunday School
DESCRIPTION:
URL:https://stpaulfairfield.org/event/sunday-school-17/2027-02-21/
LOCATION:Grace Episcopal Church\, 1405 Kentucky Street\, Fairfield\, CA\, 94533\, United States
CATEGORIES:Sunday School
END:VEVENT
BEGIN:VEVENT
DTSTART;TZID=America/Los_Angeles:20270228T110000
DTEND;TZID=America/Los_Angeles:20270228T114500
DTSTAMP:20260421T153405
CREATED:20190901T202854Z
LAST-MODIFIED:20231127T192302Z
UID:10000483-1803812400-1803815100@stpaulfairfield.org
SUMMARY:Sunday School
DESCRIPTION:
URL:https://stpaulfairfield.org/event/sunday-school-17/2027-02-28/
LOCATION:Grace Episcopal Church\, 1405 Kentucky Street\, Fairfield\, CA\, 94533\, United States
CATEGORIES:Sunday School
END:VEVENT
BEGIN:VEVENT
DTSTART;TZID=America/Los_Angeles:20270307T110000
DTEND;TZID=America/Los_Angeles:20270307T114500
DTSTAMP:20260421T153405
CREATED:20190901T202854Z
LAST-MODIFIED:20231127T192302Z
UID:10000484-1804417200-1804419900@stpaulfairfield.org
SUMMARY:Sunday School
DESCRIPTION:
URL:https://stpaulfairfield.org/event/sunday-school-17/2027-03-07/
LOCATION:Grace Episcopal Church\, 1405 Kentucky Street\, Fairfield\, CA\, 94533\, United States
CATEGORIES:Sunday School
END:VEVENT
BEGIN:VEVENT
DTSTART;TZID=America/Los_Angeles:20270314T110000
DTEND;TZID=America/Los_Angeles:20270314T114500
DTSTAMP:20260421T153405
CREATED:20190901T202854Z
LAST-MODIFIED:20231127T192302Z
UID:10000485-1805022000-1805024700@stpaulfairfield.org
SUMMARY:Sunday School
DESCRIPTION:
URL:https://stpaulfairfield.org/event/sunday-school-17/2027-03-14/
LOCATION:Grace Episcopal Church\, 1405 Kentucky Street\, Fairfield\, CA\, 94533\, United States
CATEGORIES:Sunday School
END:VEVENT
END:VCALENDAR