BEGIN:VCALENDAR
VERSION:2.0
PRODID:-//St. Paul Baptist Church - Fairfield - ECPv6.15.20//NONSGML v1.0//EN
CALSCALE:GREGORIAN
METHOD:PUBLISH
X-WR-CALNAME:St. Paul Baptist Church - Fairfield
X-ORIGINAL-URL:https://stpaulfairfield.org
X-WR-CALDESC:Events for St. Paul Baptist Church - Fairfield
REFRESH-INTERVAL;VALUE=DURATION:PT1H
X-Robots-Tag:noindex
X-PUBLISHED-TTL:PT1H
BEGIN:VTIMEZONE
TZID:America/Los_Angeles
BEGIN:DAYLIGHT
TZOFFSETFROM:-0800
TZOFFSETTO:-0700
TZNAME:PDT
DTSTART:20240310T100000
END:DAYLIGHT
BEGIN:STANDARD
TZOFFSETFROM:-0700
TZOFFSETTO:-0800
TZNAME:PST
DTSTART:20241103T090000
END:STANDARD
BEGIN:DAYLIGHT
TZOFFSETFROM:-0800
TZOFFSETTO:-0700
TZNAME:PDT
DTSTART:20250309T100000
END:DAYLIGHT
BEGIN:STANDARD
TZOFFSETFROM:-0700
TZOFFSETTO:-0800
TZNAME:PST
DTSTART:20251102T090000
END:STANDARD
BEGIN:DAYLIGHT
TZOFFSETFROM:-0800
TZOFFSETTO:-0700
TZNAME:PDT
DTSTART:20260308T100000
END:DAYLIGHT
BEGIN:STANDARD
TZOFFSETFROM:-0700
TZOFFSETTO:-0800
TZNAME:PST
DTSTART:20261101T090000
END:STANDARD
BEGIN:DAYLIGHT
TZOFFSETFROM:-0800
TZOFFSETTO:-0700
TZNAME:PDT
DTSTART:20270314T100000
END:DAYLIGHT
BEGIN:STANDARD
TZOFFSETFROM:-0700
TZOFFSETTO:-0800
TZNAME:PST
DTSTART:20271107T090000
END:STANDARD
END:VTIMEZONE
BEGIN:VEVENT
DTSTART;TZID=America/Los_Angeles:20260125T110000
DTEND;TZID=America/Los_Angeles:20260125T114500
DTSTAMP:20260421T133736
CREATED:20190901T202854Z
LAST-MODIFIED:20231127T192302Z
UID:10000426-1769338800-1769341500@stpaulfairfield.org
SUMMARY:Sunday School
DESCRIPTION:
URL:https://stpaulfairfield.org/event/sunday-school-17/2026-01-25/
LOCATION:Grace Episcopal Church\, 1405 Kentucky Street\, Fairfield\, CA\, 94533\, United States
CATEGORIES:Sunday School
END:VEVENT
BEGIN:VEVENT
DTSTART;TZID=America/Los_Angeles:20260118T110000
DTEND;TZID=America/Los_Angeles:20260118T114500
DTSTAMP:20260421T133736
CREATED:20190901T202854Z
LAST-MODIFIED:20231127T192302Z
UID:10000425-1768734000-1768736700@stpaulfairfield.org
SUMMARY:Sunday School
DESCRIPTION:
URL:https://stpaulfairfield.org/event/sunday-school-17/2026-01-18/
LOCATION:Grace Episcopal Church\, 1405 Kentucky Street\, Fairfield\, CA\, 94533\, United States
CATEGORIES:Sunday School
END:VEVENT
BEGIN:VEVENT
DTSTART;TZID=America/Los_Angeles:20260111T110000
DTEND;TZID=America/Los_Angeles:20260111T114500
DTSTAMP:20260421T133736
CREATED:20190901T202854Z
LAST-MODIFIED:20231127T192302Z
UID:10000424-1768129200-1768131900@stpaulfairfield.org
SUMMARY:Sunday School
DESCRIPTION:
URL:https://stpaulfairfield.org/event/sunday-school-17/2026-01-11/
LOCATION:Grace Episcopal Church\, 1405 Kentucky Street\, Fairfield\, CA\, 94533\, United States
CATEGORIES:Sunday School
END:VEVENT
BEGIN:VEVENT
DTSTART;TZID=America/Los_Angeles:20260104T110000
DTEND;TZID=America/Los_Angeles:20260104T114500
DTSTAMP:20260421T133736
CREATED:20190901T202854Z
LAST-MODIFIED:20231127T192302Z
UID:10000423-1767524400-1767527100@stpaulfairfield.org
SUMMARY:Sunday School
DESCRIPTION:
URL:https://stpaulfairfield.org/event/sunday-school-17/2026-01-04/
LOCATION:Grace Episcopal Church\, 1405 Kentucky Street\, Fairfield\, CA\, 94533\, United States
CATEGORIES:Sunday School
END:VEVENT
BEGIN:VEVENT
DTSTART;TZID=America/Los_Angeles:20251228T110000
DTEND;TZID=America/Los_Angeles:20251228T114500
DTSTAMP:20260421T133736
CREATED:20190901T202854Z
LAST-MODIFIED:20231127T192302Z
UID:10000422-1766919600-1766922300@stpaulfairfield.org
SUMMARY:Sunday School
DESCRIPTION:
URL:https://stpaulfairfield.org/event/sunday-school-17/2025-12-28/
LOCATION:Grace Episcopal Church\, 1405 Kentucky Street\, Fairfield\, CA\, 94533\, United States
CATEGORIES:Sunday School
END:VEVENT
BEGIN:VEVENT
DTSTART;TZID=America/Los_Angeles:20251221T110000
DTEND;TZID=America/Los_Angeles:20251221T114500
DTSTAMP:20260421T133736
CREATED:20190901T202854Z
LAST-MODIFIED:20231127T192302Z
UID:10000421-1766314800-1766317500@stpaulfairfield.org
SUMMARY:Sunday School
DESCRIPTION:
URL:https://stpaulfairfield.org/event/sunday-school-17/2025-12-21/
LOCATION:Grace Episcopal Church\, 1405 Kentucky Street\, Fairfield\, CA\, 94533\, United States
CATEGORIES:Sunday School
END:VEVENT
BEGIN:VEVENT
DTSTART;TZID=America/Los_Angeles:20251214T110000
DTEND;TZID=America/Los_Angeles:20251214T114500
DTSTAMP:20260421T133736
CREATED:20190901T202854Z
LAST-MODIFIED:20231127T192302Z
UID:10000420-1765710000-1765712700@stpaulfairfield.org
SUMMARY:Sunday School
DESCRIPTION:
URL:https://stpaulfairfield.org/event/sunday-school-17/2025-12-14/
LOCATION:Grace Episcopal Church\, 1405 Kentucky Street\, Fairfield\, CA\, 94533\, United States
CATEGORIES:Sunday School
END:VEVENT
BEGIN:VEVENT
DTSTART;TZID=America/Los_Angeles:20251207T110000
DTEND;TZID=America/Los_Angeles:20251207T114500
DTSTAMP:20260421T133736
CREATED:20190901T202854Z
LAST-MODIFIED:20231127T192302Z
UID:10000419-1765105200-1765107900@stpaulfairfield.org
SUMMARY:Sunday School
DESCRIPTION:
URL:https://stpaulfairfield.org/event/sunday-school-17/2025-12-07/
LOCATION:Grace Episcopal Church\, 1405 Kentucky Street\, Fairfield\, CA\, 94533\, United States
CATEGORIES:Sunday School
END:VEVENT
BEGIN:VEVENT
DTSTART;TZID=America/Los_Angeles:20251130T110000
DTEND;TZID=America/Los_Angeles:20251130T114500
DTSTAMP:20260421T133736
CREATED:20190901T202854Z
LAST-MODIFIED:20231127T192302Z
UID:10000418-1764500400-1764503100@stpaulfairfield.org
SUMMARY:Sunday School
DESCRIPTION:
URL:https://stpaulfairfield.org/event/sunday-school-17/2025-11-30/
LOCATION:Grace Episcopal Church\, 1405 Kentucky Street\, Fairfield\, CA\, 94533\, United States
CATEGORIES:Sunday School
END:VEVENT
BEGIN:VEVENT
DTSTART;TZID=America/Los_Angeles:20251123T110000
DTEND;TZID=America/Los_Angeles:20251123T114500
DTSTAMP:20260421T133736
CREATED:20190901T202854Z
LAST-MODIFIED:20231127T192302Z
UID:10000417-1763895600-1763898300@stpaulfairfield.org
SUMMARY:Sunday School
DESCRIPTION:
URL:https://stpaulfairfield.org/event/sunday-school-17/2025-11-23/
LOCATION:Grace Episcopal Church\, 1405 Kentucky Street\, Fairfield\, CA\, 94533\, United States
CATEGORIES:Sunday School
END:VEVENT
BEGIN:VEVENT
DTSTART;TZID=America/Los_Angeles:20251116T110000
DTEND;TZID=America/Los_Angeles:20251116T114500
DTSTAMP:20260421T133736
CREATED:20190901T202854Z
LAST-MODIFIED:20231127T192302Z
UID:10000416-1763290800-1763293500@stpaulfairfield.org
SUMMARY:Sunday School
DESCRIPTION:
URL:https://stpaulfairfield.org/event/sunday-school-17/2025-11-16/
LOCATION:Grace Episcopal Church\, 1405 Kentucky Street\, Fairfield\, CA\, 94533\, United States
CATEGORIES:Sunday School
END:VEVENT
BEGIN:VEVENT
DTSTART;TZID=America/Los_Angeles:20251109T110000
DTEND;TZID=America/Los_Angeles:20251109T114500
DTSTAMP:20260421T133736
CREATED:20190901T202854Z
LAST-MODIFIED:20231127T192302Z
UID:10000415-1762686000-1762688700@stpaulfairfield.org
SUMMARY:Sunday School
DESCRIPTION:
URL:https://stpaulfairfield.org/event/sunday-school-17/2025-11-09/
LOCATION:Grace Episcopal Church\, 1405 Kentucky Street\, Fairfield\, CA\, 94533\, United States
CATEGORIES:Sunday School
END:VEVENT
BEGIN:VEVENT
DTSTART;TZID=America/Los_Angeles:20251102T110000
DTEND;TZID=America/Los_Angeles:20251102T114500
DTSTAMP:20260421T133736
CREATED:20190901T202854Z
LAST-MODIFIED:20231127T192302Z
UID:10000414-1762081200-1762083900@stpaulfairfield.org
SUMMARY:Sunday School
DESCRIPTION:
URL:https://stpaulfairfield.org/event/sunday-school-17/2025-11-02/
LOCATION:Grace Episcopal Church\, 1405 Kentucky Street\, Fairfield\, CA\, 94533\, United States
CATEGORIES:Sunday School
END:VEVENT
BEGIN:VEVENT
DTSTART;TZID=America/Los_Angeles:20251026T110000
DTEND;TZID=America/Los_Angeles:20251026T114500
DTSTAMP:20260421T133736
CREATED:20190901T202854Z
LAST-MODIFIED:20231127T192302Z
UID:10000413-1761476400-1761479100@stpaulfairfield.org
SUMMARY:Sunday School
DESCRIPTION:
URL:https://stpaulfairfield.org/event/sunday-school-17/2025-10-26/
LOCATION:Grace Episcopal Church\, 1405 Kentucky Street\, Fairfield\, CA\, 94533\, United States
CATEGORIES:Sunday School
END:VEVENT
BEGIN:VEVENT
DTSTART;TZID=America/Los_Angeles:20251019T110000
DTEND;TZID=America/Los_Angeles:20251019T114500
DTSTAMP:20260421T133736
CREATED:20190901T202854Z
LAST-MODIFIED:20231127T192302Z
UID:10000412-1760871600-1760874300@stpaulfairfield.org
SUMMARY:Sunday School
DESCRIPTION:
URL:https://stpaulfairfield.org/event/sunday-school-17/2025-10-19/
LOCATION:Grace Episcopal Church\, 1405 Kentucky Street\, Fairfield\, CA\, 94533\, United States
CATEGORIES:Sunday School
END:VEVENT
BEGIN:VEVENT
DTSTART;TZID=America/Los_Angeles:20251012T110000
DTEND;TZID=America/Los_Angeles:20251012T114500
DTSTAMP:20260421T133736
CREATED:20190901T202854Z
LAST-MODIFIED:20231127T192302Z
UID:10000411-1760266800-1760269500@stpaulfairfield.org
SUMMARY:Sunday School
DESCRIPTION:
URL:https://stpaulfairfield.org/event/sunday-school-17/2025-10-12/
LOCATION:Grace Episcopal Church\, 1405 Kentucky Street\, Fairfield\, CA\, 94533\, United States
CATEGORIES:Sunday School
END:VEVENT
BEGIN:VEVENT
DTSTART;TZID=America/Los_Angeles:20251005T110000
DTEND;TZID=America/Los_Angeles:20251005T114500
DTSTAMP:20260421T133736
CREATED:20190901T202854Z
LAST-MODIFIED:20231127T192302Z
UID:10000410-1759662000-1759664700@stpaulfairfield.org
SUMMARY:Sunday School
DESCRIPTION:
URL:https://stpaulfairfield.org/event/sunday-school-17/2025-10-05/
LOCATION:Grace Episcopal Church\, 1405 Kentucky Street\, Fairfield\, CA\, 94533\, United States
CATEGORIES:Sunday School
END:VEVENT
BEGIN:VEVENT
DTSTART;TZID=America/Los_Angeles:20250928T110000
DTEND;TZID=America/Los_Angeles:20250928T114500
DTSTAMP:20260421T133736
CREATED:20190901T202854Z
LAST-MODIFIED:20231127T192302Z
UID:10000409-1759057200-1759059900@stpaulfairfield.org
SUMMARY:Sunday School
DESCRIPTION:
URL:https://stpaulfairfield.org/event/sunday-school-17/2025-09-28/
LOCATION:Grace Episcopal Church\, 1405 Kentucky Street\, Fairfield\, CA\, 94533\, United States
CATEGORIES:Sunday School
END:VEVENT
BEGIN:VEVENT
DTSTART;TZID=America/Los_Angeles:20250921T110000
DTEND;TZID=America/Los_Angeles:20250921T114500
DTSTAMP:20260421T133736
CREATED:20190901T202854Z
LAST-MODIFIED:20231127T192302Z
UID:10000408-1758452400-1758455100@stpaulfairfield.org
SUMMARY:Sunday School
DESCRIPTION:
URL:https://stpaulfairfield.org/event/sunday-school-17/2025-09-21/
LOCATION:Grace Episcopal Church\, 1405 Kentucky Street\, Fairfield\, CA\, 94533\, United States
CATEGORIES:Sunday School
END:VEVENT
BEGIN:VEVENT
DTSTART;TZID=America/Los_Angeles:20250914T110000
DTEND;TZID=America/Los_Angeles:20250914T114500
DTSTAMP:20260421T133736
CREATED:20190901T202854Z
LAST-MODIFIED:20231127T192302Z
UID:10000407-1757847600-1757850300@stpaulfairfield.org
SUMMARY:Sunday School
DESCRIPTION:
URL:https://stpaulfairfield.org/event/sunday-school-17/2025-09-14/
LOCATION:Grace Episcopal Church\, 1405 Kentucky Street\, Fairfield\, CA\, 94533\, United States
CATEGORIES:Sunday School
END:VEVENT
BEGIN:VEVENT
DTSTART;TZID=America/Los_Angeles:20250907T110000
DTEND;TZID=America/Los_Angeles:20250907T114500
DTSTAMP:20260421T133736
CREATED:20190901T202854Z
LAST-MODIFIED:20231127T192302Z
UID:10000406-1757242800-1757245500@stpaulfairfield.org
SUMMARY:Sunday School
DESCRIPTION:
URL:https://stpaulfairfield.org/event/sunday-school-17/2025-09-07/
LOCATION:Grace Episcopal Church\, 1405 Kentucky Street\, Fairfield\, CA\, 94533\, United States
CATEGORIES:Sunday School
END:VEVENT
BEGIN:VEVENT
DTSTART;TZID=America/Los_Angeles:20250831T110000
DTEND;TZID=America/Los_Angeles:20250831T114500
DTSTAMP:20260421T133736
CREATED:20190901T202854Z
LAST-MODIFIED:20231127T192302Z
UID:10000405-1756638000-1756640700@stpaulfairfield.org
SUMMARY:Sunday School
DESCRIPTION:
URL:https://stpaulfairfield.org/event/sunday-school-17/2025-08-31/
LOCATION:Grace Episcopal Church\, 1405 Kentucky Street\, Fairfield\, CA\, 94533\, United States
CATEGORIES:Sunday School
END:VEVENT
BEGIN:VEVENT
DTSTART;TZID=America/Los_Angeles:20250824T110000
DTEND;TZID=America/Los_Angeles:20250824T114500
DTSTAMP:20260421T133736
CREATED:20190901T202854Z
LAST-MODIFIED:20231127T192302Z
UID:10000404-1756033200-1756035900@stpaulfairfield.org
SUMMARY:Sunday School
DESCRIPTION:
URL:https://stpaulfairfield.org/event/sunday-school-17/2025-08-24/
LOCATION:Grace Episcopal Church\, 1405 Kentucky Street\, Fairfield\, CA\, 94533\, United States
CATEGORIES:Sunday School
END:VEVENT
BEGIN:VEVENT
DTSTART;TZID=America/Los_Angeles:20250817T110000
DTEND;TZID=America/Los_Angeles:20250817T114500
DTSTAMP:20260421T133736
CREATED:20190901T202854Z
LAST-MODIFIED:20231127T192302Z
UID:10000403-1755428400-1755431100@stpaulfairfield.org
SUMMARY:Sunday School
DESCRIPTION:
URL:https://stpaulfairfield.org/event/sunday-school-17/2025-08-17/
LOCATION:Grace Episcopal Church\, 1405 Kentucky Street\, Fairfield\, CA\, 94533\, United States
CATEGORIES:Sunday School
END:VEVENT
BEGIN:VEVENT
DTSTART;TZID=America/Los_Angeles:20250810T110000
DTEND;TZID=America/Los_Angeles:20250810T114500
DTSTAMP:20260421T133736
CREATED:20190901T202854Z
LAST-MODIFIED:20231127T192302Z
UID:10000402-1754823600-1754826300@stpaulfairfield.org
SUMMARY:Sunday School
DESCRIPTION:
URL:https://stpaulfairfield.org/event/sunday-school-17/2025-08-10/
LOCATION:Grace Episcopal Church\, 1405 Kentucky Street\, Fairfield\, CA\, 94533\, United States
CATEGORIES:Sunday School
END:VEVENT
BEGIN:VEVENT
DTSTART;TZID=America/Los_Angeles:20250803T110000
DTEND;TZID=America/Los_Angeles:20250803T114500
DTSTAMP:20260421T133736
CREATED:20190901T202854Z
LAST-MODIFIED:20231127T192302Z
UID:10000401-1754218800-1754221500@stpaulfairfield.org
SUMMARY:Sunday School
DESCRIPTION:
URL:https://stpaulfairfield.org/event/sunday-school-17/2025-08-03/
LOCATION:Grace Episcopal Church\, 1405 Kentucky Street\, Fairfield\, CA\, 94533\, United States
CATEGORIES:Sunday School
END:VEVENT
BEGIN:VEVENT
DTSTART;TZID=America/Los_Angeles:20250727T110000
DTEND;TZID=America/Los_Angeles:20250727T114500
DTSTAMP:20260421T133736
CREATED:20190901T202854Z
LAST-MODIFIED:20231127T192302Z
UID:10000400-1753614000-1753616700@stpaulfairfield.org
SUMMARY:Sunday School
DESCRIPTION:
URL:https://stpaulfairfield.org/event/sunday-school-17/2025-07-27/
LOCATION:Grace Episcopal Church\, 1405 Kentucky Street\, Fairfield\, CA\, 94533\, United States
CATEGORIES:Sunday School
END:VEVENT
BEGIN:VEVENT
DTSTART;TZID=America/Los_Angeles:20250720T110000
DTEND;TZID=America/Los_Angeles:20250720T114500
DTSTAMP:20260421T133736
CREATED:20190901T202854Z
LAST-MODIFIED:20231127T192302Z
UID:10000399-1753009200-1753011900@stpaulfairfield.org
SUMMARY:Sunday School
DESCRIPTION:
URL:https://stpaulfairfield.org/event/sunday-school-17/2025-07-20/
LOCATION:Grace Episcopal Church\, 1405 Kentucky Street\, Fairfield\, CA\, 94533\, United States
CATEGORIES:Sunday School
END:VEVENT
BEGIN:VEVENT
DTSTART;TZID=America/Los_Angeles:20250713T110000
DTEND;TZID=America/Los_Angeles:20250713T114500
DTSTAMP:20260421T133736
CREATED:20190901T202854Z
LAST-MODIFIED:20231127T192302Z
UID:10000398-1752404400-1752407100@stpaulfairfield.org
SUMMARY:Sunday School
DESCRIPTION:
URL:https://stpaulfairfield.org/event/sunday-school-17/2025-07-13/
LOCATION:Grace Episcopal Church\, 1405 Kentucky Street\, Fairfield\, CA\, 94533\, United States
CATEGORIES:Sunday School
END:VEVENT
BEGIN:VEVENT
DTSTART;TZID=America/Los_Angeles:20250706T110000
DTEND;TZID=America/Los_Angeles:20250706T114500
DTSTAMP:20260421T133736
CREATED:20190901T202854Z
LAST-MODIFIED:20231127T192302Z
UID:10000397-1751799600-1751802300@stpaulfairfield.org
SUMMARY:Sunday School
DESCRIPTION:
URL:https://stpaulfairfield.org/event/sunday-school-17/2025-07-06/
LOCATION:Grace Episcopal Church\, 1405 Kentucky Street\, Fairfield\, CA\, 94533\, United States
CATEGORIES:Sunday School
END:VEVENT
END:VCALENDAR